BEGIN:VCALENDAR
VERSION:2.0
PRODID:-//Calendario de Eventos Gran Canaria - ECPv6.15.17.1//NONSGML v1.0//EN
CALSCALE:GREGORIAN
METHOD:PUBLISH
X-WR-CALNAME:Calendario de Eventos Gran Canaria
X-ORIGINAL-URL:https://calendarioeventos.com/en
X-WR-CALDESC:Events for Calendario de Eventos Gran Canaria
REFRESH-INTERVAL;VALUE=DURATION:PT1H
X-Robots-Tag:noindex
X-PUBLISHED-TTL:PT1H
BEGIN:VTIMEZONE
TZID:Europe/London
BEGIN:DAYLIGHT
TZOFFSETFROM:+0000
TZOFFSETTO:+0100
TZNAME:BST
DTSTART:20250330T010000
END:DAYLIGHT
BEGIN:STANDARD
TZOFFSETFROM:+0100
TZOFFSETTO:+0000
TZNAME:GMT
DTSTART:20251026T010000
END:STANDARD
BEGIN:DAYLIGHT
TZOFFSETFROM:+0000
TZOFFSETTO:+0100
TZNAME:BST
DTSTART:20260329T010000
END:DAYLIGHT
BEGIN:STANDARD
TZOFFSETFROM:+0100
TZOFFSETTO:+0000
TZNAME:GMT
DTSTART:20261025T010000
END:STANDARD
BEGIN:DAYLIGHT
TZOFFSETFROM:+0000
TZOFFSETTO:+0100
TZNAME:BST
DTSTART:20270328T010000
END:DAYLIGHT
BEGIN:STANDARD
TZOFFSETFROM:+0100
TZOFFSETTO:+0000
TZNAME:GMT
DTSTART:20271031T010000
END:STANDARD
END:VTIMEZONE
BEGIN:VEVENT
DTSTART;TZID=Europe/London:20260117T073000
DTEND;TZID=Europe/London:20260117T203000
DTSTAMP:20260421T060639
CREATED:20251204T144026Z
LAST-MODIFIED:20260107T213707Z
UID:40442-1768635000-1768681800@calendarioeventos.com
SUMMARY:Deporte - Mogán Fitness Day
DESCRIPTION:Deporte – Mogán Fitness Day en la Playa del Perchel\, Mogán\, Gran Canaria. \n\n7:30h – Yoga / Activación.\n9:00h – Gymkana familiar.\n14:30h – Nomad Hybrid Race.\n\nInscripciones en este enlace. \nInscripciones Gymkana familiar \n\nVive una mañana diferente en familia con 5 pruebas deportivas y de juego pensadas para todas las edades: circuitos de puntería\, recorridos de obstáculos y relevos en equipo\, desde los más peques hasta los más mayores.La actividad se celebrará a partir de las 9:00 h en la Playa del Perchel\, en Arguineguín.\n\nIncluye:\n\n\n5 pruebas familiares (puntería\, obstáculos y relevos) \n\n\nParticipación para niños y adultos \n\n\nEntorno seguro y supervisado en la playa \n\n\n\n\n\n\nInscripciones Yoga/Activación \n\nEmpieza el día con una sesión de YOGA/ACTIVACIÓN de 45 minutos en la Playa del Perchel. Una clase guiada al aire libre para despertar el cuerpo\, activar la energía y ganar claridad mental mientras amanece.\nTrabajaremos respiración consciente\, estiramientos suaves y posturas básicas de yoga accesibles para todos los niveles\, centradas en movilidad\, equilibrio y bienestar general.\n\nDetalles del evento\n\n\nModalidad: YOGA/ACTIVACIÓN \n\n\nDuración: 45 minutos \n\n\nHora de inicio: 7:30 h \n\n\nLugar: Playa del Perchel\, Arguineguín \n\n\nNivel: abierto a todas las edades y niveles de experiencia
URL:https://calendarioeventos.com/en/evento/deporte-mogan-fitness-day/
LOCATION:Playa El Perchel\, Calle José Manuel Santana Garcia\, Arguineguin\, Las Palmas\, 35120\, Spain
CATEGORIES:Actividades,Deporte,Infantil,Mogán,Yoga
ATTACH;FMTTYPE=image/png:https://calendarioeventos.com/wp-content/uploads/2025/12/Screenshot-2025-12-04-at-14-37-11-Instagram.avif
END:VEVENT
END:VCALENDAR