BEGIN:VCALENDAR
VERSION:2.0
PRODID:-//Calendario de Eventos Gran Canaria - ECPv6.15.17.1//NONSGML v1.0//EN
CALSCALE:GREGORIAN
METHOD:PUBLISH
X-WR-CALNAME:Calendario de Eventos Gran Canaria
X-ORIGINAL-URL:https://calendarioeventos.com/en
X-WR-CALDESC:Events for Calendario de Eventos Gran Canaria
REFRESH-INTERVAL;VALUE=DURATION:PT1H
X-Robots-Tag:noindex
X-PUBLISHED-TTL:PT1H
BEGIN:VTIMEZONE
TZID:Europe/London
BEGIN:DAYLIGHT
TZOFFSETFROM:+0000
TZOFFSETTO:+0100
TZNAME:BST
DTSTART:20240331T010000
END:DAYLIGHT
BEGIN:STANDARD
TZOFFSETFROM:+0100
TZOFFSETTO:+0000
TZNAME:GMT
DTSTART:20241027T010000
END:STANDARD
BEGIN:DAYLIGHT
TZOFFSETFROM:+0000
TZOFFSETTO:+0100
TZNAME:BST
DTSTART:20250330T010000
END:DAYLIGHT
BEGIN:STANDARD
TZOFFSETFROM:+0100
TZOFFSETTO:+0000
TZNAME:GMT
DTSTART:20251026T010000
END:STANDARD
BEGIN:DAYLIGHT
TZOFFSETFROM:+0000
TZOFFSETTO:+0100
TZNAME:BST
DTSTART:20260329T010000
END:DAYLIGHT
BEGIN:STANDARD
TZOFFSETFROM:+0100
TZOFFSETTO:+0000
TZNAME:GMT
DTSTART:20261025T010000
END:STANDARD
END:VTIMEZONE
BEGIN:VEVENT
DTSTART;TZID=Europe/London:20251220T090000
DTEND;TZID=Europe/London:20251220T180000
DTSTAMP:20260425T125508
CREATED:20251217T141558Z
LAST-MODIFIED:20251217T141558Z
UID:10011828-1766221200-1766253600@calendarioeventos.com
SUMMARY:Deporte - Torneo Americano de Pádel – Navidad
DESCRIPTION:Deporte – Torneo Americano de Pádel – Navidad en Firgas\, Gran Canaria. \na Concejalía de Deportes del Ayuntamiento de Firgas\, dirigida por Marcos Marrero\, les invita a participar en el Torneo Americano de Pádel – Navidad 2️⃣0️⃣2️⃣5️⃣ Un evento organizado por ProjectPadelZL – Firgas \n20 y 21 de diciembre.\n⌚Durante todo el día. \nMás información e inscripción en este enlace
URL:https://calendarioeventos.com/en/evento/deporte-torneo-americano-de-padel-navidad/2025-12-20/
LOCATION:Firgas
CATEGORIES:Actividades,Deporte,Firgas
ATTACH;FMTTYPE=image/png:https://calendarioeventos.com/wp-content/uploads/2025/12/Screenshot-2025-12-17-at-14-15-02-Instagram.avif
END:VEVENT
END:VCALENDAR