BEGIN:VCALENDAR
VERSION:2.0
PRODID:-//Calendario de Eventos Gran Canaria - ECPv6.15.17.1//NONSGML v1.0//EN
CALSCALE:GREGORIAN
METHOD:PUBLISH
X-WR-CALNAME:Calendario de Eventos Gran Canaria
X-ORIGINAL-URL:https://calendarioeventos.com/en
X-WR-CALDESC:Events for Calendario de Eventos Gran Canaria
REFRESH-INTERVAL;VALUE=DURATION:PT1H
X-Robots-Tag:noindex
X-PUBLISHED-TTL:PT1H
BEGIN:VTIMEZONE
TZID:Europe/London
BEGIN:DAYLIGHT
TZOFFSETFROM:+0000
TZOFFSETTO:+0100
TZNAME:BST
DTSTART:20250330T010000
END:DAYLIGHT
BEGIN:STANDARD
TZOFFSETFROM:+0100
TZOFFSETTO:+0000
TZNAME:GMT
DTSTART:20251026T010000
END:STANDARD
BEGIN:DAYLIGHT
TZOFFSETFROM:+0000
TZOFFSETTO:+0100
TZNAME:BST
DTSTART:20260329T010000
END:DAYLIGHT
BEGIN:STANDARD
TZOFFSETFROM:+0100
TZOFFSETTO:+0000
TZNAME:GMT
DTSTART:20261025T010000
END:STANDARD
BEGIN:DAYLIGHT
TZOFFSETFROM:+0000
TZOFFSETTO:+0100
TZNAME:BST
DTSTART:20270328T010000
END:DAYLIGHT
BEGIN:STANDARD
TZOFFSETFROM:+0100
TZOFFSETTO:+0000
TZNAME:GMT
DTSTART:20271031T010000
END:STANDARD
END:VTIMEZONE
BEGIN:VEVENT
DTSTART;TZID=Europe/London:20260305T170000
DTEND;TZID=Europe/London:20260305T193000
DTSTAMP:20260423T191001
CREATED:20260223T100226Z
LAST-MODIFIED:20260223T100227Z
UID:60939-1772730000-1772739000@calendarioeventos.com
SUMMARY:Documental — «El Silbo en la resistencia: Proyección de El Huido»
DESCRIPTION:Proyección del Documental «El Silbo en la resistencia: El Huido» en el Salón de Actos de Humanidades\, Campus del Obelisco\, Las Palmas de Gran Canaria. \nProyección del documental El Huido seguida de un coloquio posterior sobre la importancia del silbo en la resistencia histórica cultural. \nAbrirá el acto el Rector de la ULPGC\, Lluís Serra\, con la intervención de Dña. Helena Hernández Casañas\, hija del protagonista y de Dña. Juana Casañas\, autora del libro «Historia de Manuel\, ‘el Huido'». A continuación\, expondrán la ponencia «Breves apuntes en torno al silbo como medio de comunicación en la resistencia» el investigador David Díaz Reyes y la directora del Aula de Silbo\, la profesora María Jesús Rodríguez Medina. Posteriormente se proyectará… el documental «El Huido»\, de Pablo Fajardo\, a lo que seguirá un coloquio con el director\, Eligio Hernández\, Helena Hernández\, David Díaz y Juan Lasso. \nEl evento se propone divulgar el conocimiento sobre otros usos del silbo como el que se documenta en la producción audiovisual El Huido\, donde se muestra el silbo como elemento clave para la supervivencia en la cautividad de algunos perseguidos políticos durante la Guerra Civil y los primeros años de la posguerra española. Así\, el objetivo es también generar un espacio de divulgación del conocimiento y debate abierto y público sobre el lenguaje silbado en Canarias en usos muy desconocidos por la sociedad\, fomentando así su interés y revitalización. \nEntrada libre hasta completar aforo. \nEn colaboración con la Fundación DISA.
URL:https://calendarioeventos.com/en/evento/documental-el-silbo-en-la-resistencia-proyeccion-de-el-huido/
LOCATION:Campus del Obelisco\, C. de Pérez del Toro\, 1\, 35003 Las Palmas de Gran Canaria\, Las Palmas
CATEGORIES:Charla,Cultura,Documental,Eventos gratuitos,Las Palmas de GC
END:VEVENT
END:VCALENDAR