BEGIN:VCALENDAR
VERSION:2.0
PRODID:-//Calendario de Eventos Gran Canaria - ECPv6.15.17.1//NONSGML v1.0//EN
CALSCALE:GREGORIAN
METHOD:PUBLISH
X-WR-CALNAME:Calendario de Eventos Gran Canaria
X-ORIGINAL-URL:https://calendarioeventos.com/en
X-WR-CALDESC:Events for Calendario de Eventos Gran Canaria
REFRESH-INTERVAL;VALUE=DURATION:PT1H
X-Robots-Tag:noindex
X-PUBLISHED-TTL:PT1H
BEGIN:VTIMEZONE
TZID:Europe/London
BEGIN:DAYLIGHT
TZOFFSETFROM:+0000
TZOFFSETTO:+0100
TZNAME:BST
DTSTART:20240331T010000
END:DAYLIGHT
BEGIN:STANDARD
TZOFFSETFROM:+0100
TZOFFSETTO:+0000
TZNAME:GMT
DTSTART:20241027T010000
END:STANDARD
BEGIN:DAYLIGHT
TZOFFSETFROM:+0000
TZOFFSETTO:+0100
TZNAME:BST
DTSTART:20250330T010000
END:DAYLIGHT
BEGIN:STANDARD
TZOFFSETFROM:+0100
TZOFFSETTO:+0000
TZNAME:GMT
DTSTART:20251026T010000
END:STANDARD
BEGIN:DAYLIGHT
TZOFFSETFROM:+0000
TZOFFSETTO:+0100
TZNAME:BST
DTSTART:20260329T010000
END:DAYLIGHT
BEGIN:STANDARD
TZOFFSETFROM:+0100
TZOFFSETTO:+0000
TZNAME:GMT
DTSTART:20261025T010000
END:STANDARD
END:VTIMEZONE
BEGIN:VEVENT
DTSTART;TZID=Europe/London:20251215T183000
DTEND;TZID=Europe/London:20251215T200000
DTSTAMP:20260425T145451
CREATED:20251209T114744Z
LAST-MODIFIED:20251212T095817Z
UID:41978-1765823400-1765828800@calendarioeventos.com
SUMMARY:El camino que lleva a La Navidad - Moya 15 diciembre
DESCRIPTION:Programa de «El camino que lleva a La Navidad» en la Villa de Moya\, Gran Canaria\, del 15 de diciembre: \n\n18.30 h. Audiciones de Navidad a cargo del alumnado de las Escuelas Artísticas Municipales. Casa de la Cultura.
URL:https://calendarioeventos.com/en/evento/el-camino-que-lleva-a-la-navidad-moya-15-diciembre/
LOCATION:Casa de la Cultura Villa de Moya\, C. Juan Delgado\, 3\, 35420 Moya\, Las Palmas
CATEGORIES:Arte,Cultura,Eventos gratuitos,Música,Moya
ATTACH;FMTTYPE=image/png:https://calendarioeventos.com/wp-content/uploads/2025/12/Screenshot-2025-12-12-at-09-57-49-Instagram.avif
END:VEVENT
END:VCALENDAR