BEGIN:VCALENDAR
VERSION:2.0
PRODID:-//Calendario de Eventos Gran Canaria - ECPv6.15.17.1//NONSGML v1.0//EN
CALSCALE:GREGORIAN
METHOD:PUBLISH
X-WR-CALNAME:Calendario de Eventos Gran Canaria
X-ORIGINAL-URL:https://calendarioeventos.com/en
X-WR-CALDESC:Events for Calendario de Eventos Gran Canaria
REFRESH-INTERVAL;VALUE=DURATION:PT1H
X-Robots-Tag:noindex
X-PUBLISHED-TTL:PT1H
BEGIN:VTIMEZONE
TZID:Europe/London
BEGIN:DAYLIGHT
TZOFFSETFROM:+0000
TZOFFSETTO:+0100
TZNAME:BST
DTSTART:20240331T010000
END:DAYLIGHT
BEGIN:STANDARD
TZOFFSETFROM:+0100
TZOFFSETTO:+0000
TZNAME:GMT
DTSTART:20241027T010000
END:STANDARD
BEGIN:DAYLIGHT
TZOFFSETFROM:+0000
TZOFFSETTO:+0100
TZNAME:BST
DTSTART:20250330T010000
END:DAYLIGHT
BEGIN:STANDARD
TZOFFSETFROM:+0100
TZOFFSETTO:+0000
TZNAME:GMT
DTSTART:20251026T010000
END:STANDARD
BEGIN:DAYLIGHT
TZOFFSETFROM:+0000
TZOFFSETTO:+0100
TZNAME:BST
DTSTART:20260329T010000
END:DAYLIGHT
BEGIN:STANDARD
TZOFFSETFROM:+0100
TZOFFSETTO:+0000
TZNAME:GMT
DTSTART:20261025T010000
END:STANDARD
END:VTIMEZONE
BEGIN:VEVENT
DTSTART;TZID=Europe/London:20251217T190000
DTEND;TZID=Europe/London:20251217T203000
DTSTAMP:20260425T184424
CREATED:20251209T115044Z
LAST-MODIFIED:20251217T175118Z
UID:41982-1765998000-1766003400@calendarioeventos.com
SUMMARY:El camino que lleva a La Navidad - Moya 17 diciembre
DESCRIPTION:Programa de «El camino que lleva a La Navidad» en la Villa de Moya\, Gran Canaria\, del 17 de diciembre: \n\n19.00 h. Espectáculo multidisciplinar Una Navidad diferente a cargo del alumnado de las Escuelas Artísticas Municipales. Anfiteatro Municipal del Parque Pico Lomito.
URL:https://calendarioeventos.com/en/evento/el-camino-que-lleva-a-la-navidad-moya-17-diciembre/
LOCATION:Anfiteatro Municipal Parque Pico Lomito\, 35420 Moya\, Las Palmas
CATEGORIES:Cultura,Danza,Eventos gratuitos,Música,Moya,Teatro
ATTACH;FMTTYPE=image/jpeg:https://calendarioeventos.com/wp-content/uploads/2025/12/IMG_5222-1024x722-1.avif
END:VEVENT
END:VCALENDAR