BEGIN:VCALENDAR
VERSION:2.0
PRODID:-//Calendario de Eventos Gran Canaria - ECPv6.15.17.1//NONSGML v1.0//EN
CALSCALE:GREGORIAN
METHOD:PUBLISH
X-WR-CALNAME:Calendario de Eventos Gran Canaria
X-ORIGINAL-URL:https://calendarioeventos.com/en
X-WR-CALDESC:Events for Calendario de Eventos Gran Canaria
REFRESH-INTERVAL;VALUE=DURATION:PT1H
X-Robots-Tag:noindex
X-PUBLISHED-TTL:PT1H
BEGIN:VTIMEZONE
TZID:Europe/London
BEGIN:DAYLIGHT
TZOFFSETFROM:+0000
TZOFFSETTO:+0100
TZNAME:BST
DTSTART:20240331T010000
END:DAYLIGHT
BEGIN:STANDARD
TZOFFSETFROM:+0100
TZOFFSETTO:+0000
TZNAME:GMT
DTSTART:20241027T010000
END:STANDARD
BEGIN:DAYLIGHT
TZOFFSETFROM:+0000
TZOFFSETTO:+0100
TZNAME:BST
DTSTART:20250330T010000
END:DAYLIGHT
BEGIN:STANDARD
TZOFFSETFROM:+0100
TZOFFSETTO:+0000
TZNAME:GMT
DTSTART:20251026T010000
END:STANDARD
BEGIN:DAYLIGHT
TZOFFSETFROM:+0000
TZOFFSETTO:+0100
TZNAME:BST
DTSTART:20260329T010000
END:DAYLIGHT
BEGIN:STANDARD
TZOFFSETFROM:+0100
TZOFFSETTO:+0000
TZNAME:GMT
DTSTART:20261025T010000
END:STANDARD
END:VTIMEZONE
BEGIN:VEVENT
DTSTART;TZID=Europe/London:20251218T140000
DTEND;TZID=Europe/London:20251218T203000
DTSTAMP:20260419T231344
CREATED:20251209T120709Z
LAST-MODIFIED:20251211T180723Z
UID:41984-1766066400-1766089800@calendarioeventos.com
SUMMARY:El camino que lleva a La Navidad - Moya 18 diciembre
DESCRIPTION:Programa de «El camino que lleva a La Navidad» en la Villa de Moya\, Gran Canaria\, del 18 de diciembre: \n\nAlmuerzo navideño para las personas mayores de la Villa de Moya. Regalos\, sorteos y baile amenizado por Eulogio y sus teclados. Inscripciones en el Centro de Mayores San Judas Tadeo o en el 928 61 00 71 hasta el día 17 de diciembre. Plazas limitadas. Restaurante Sibora (Fontanales).\n16.00 h. Patinando sobre hielo. Para jóvenes de entre 12 y 30 años. Actividad gratuita. Plazas limitadas. Inscripciones en la APP Moya Espacio Joven. C.C. Las Arenas.\nDe 18.00 a 20.30 h. La casita de la Navidad. Parque Pico Lomito. Reserva de entradas gratuitas a modo de fianza en tureservaonline.es.
URL:https://calendarioeventos.com/en/evento/el-camino-que-lleva-a-la-navidad-moya-18-diciembre/
LOCATION:Moya
CATEGORIES:Actividades,Eventos gratuitos,Gastronomía,Infantil,Jóvenes,Mayores,Moya
ATTACH;FMTTYPE=image/png:https://calendarioeventos.com/wp-content/uploads/2025/12/Screenshot-2025-12-11-at-18-06-44-Instagram.avif
END:VEVENT
END:VCALENDAR