BEGIN:VCALENDAR
VERSION:2.0
PRODID:-//Calendario de Eventos Gran Canaria - ECPv6.15.17.1//NONSGML v1.0//EN
CALSCALE:GREGORIAN
METHOD:PUBLISH
X-WR-CALNAME:Calendario de Eventos Gran Canaria
X-ORIGINAL-URL:https://calendarioeventos.com/en
X-WR-CALDESC:Events for Calendario de Eventos Gran Canaria
REFRESH-INTERVAL;VALUE=DURATION:PT1H
X-Robots-Tag:noindex
X-PUBLISHED-TTL:PT1H
BEGIN:VTIMEZONE
TZID:Europe/London
BEGIN:DAYLIGHT
TZOFFSETFROM:+0000
TZOFFSETTO:+0100
TZNAME:BST
DTSTART:20240331T010000
END:DAYLIGHT
BEGIN:STANDARD
TZOFFSETFROM:+0100
TZOFFSETTO:+0000
TZNAME:GMT
DTSTART:20241027T010000
END:STANDARD
BEGIN:DAYLIGHT
TZOFFSETFROM:+0000
TZOFFSETTO:+0100
TZNAME:BST
DTSTART:20250330T010000
END:DAYLIGHT
BEGIN:STANDARD
TZOFFSETFROM:+0100
TZOFFSETTO:+0000
TZNAME:GMT
DTSTART:20251026T010000
END:STANDARD
BEGIN:DAYLIGHT
TZOFFSETFROM:+0000
TZOFFSETTO:+0100
TZNAME:BST
DTSTART:20260329T010000
END:DAYLIGHT
BEGIN:STANDARD
TZOFFSETFROM:+0100
TZOFFSETTO:+0000
TZNAME:GMT
DTSTART:20261025T010000
END:STANDARD
END:VTIMEZONE
BEGIN:VEVENT
DTSTART;TZID=Europe/London:20251221T123000
DTEND;TZID=Europe/London:20251221T200000
DTSTAMP:20260421T061532
CREATED:20251209T121142Z
LAST-MODIFIED:20251220T224618Z
UID:41993-1766320200-1766347200@calendarioeventos.com
SUMMARY:El camino que lleva a La Navidad - Moya 21 diciembre
DESCRIPTION:Programa de «El camino que lleva a La Navidad» en la Villa de Moya\, Gran Canaria\, del 21 de diciembre: \n\n12.30 h. Concierto de Navidad a cargo de la Agrupación Musical Cumbres y Costas de la Villa de Moya. Plaza Tomás Morales. Casa de la Cultura.\nDe 10.00 a 12.30 h. y de 18.00 a 20.00 h. La casita de la Navidad. Parque Pico Lomito. Reserva de entradas en tureservaonline.es.
URL:https://calendarioeventos.com/en/evento/el-camino-que-lleva-a-la-navidad-moya-21-diciembre/
LOCATION:Moya
CATEGORIES:Concierto,Cultura,Eventos gratuitos,Infantil,Moya
ATTACH;FMTTYPE=image/jpeg:https://calendarioeventos.com/wp-content/uploads/2025/12/IMG_5222-1024x722-1.avif
END:VEVENT
END:VCALENDAR