BEGIN:VCALENDAR
VERSION:2.0
PRODID:-//Calendario de Eventos Gran Canaria - ECPv6.15.17.1//NONSGML v1.0//EN
CALSCALE:GREGORIAN
METHOD:PUBLISH
X-WR-CALNAME:Calendario de Eventos Gran Canaria
X-ORIGINAL-URL:https://calendarioeventos.com/en
X-WR-CALDESC:Events for Calendario de Eventos Gran Canaria
REFRESH-INTERVAL;VALUE=DURATION:PT1H
X-Robots-Tag:noindex
X-PUBLISHED-TTL:PT1H
BEGIN:VTIMEZONE
TZID:Europe/London
BEGIN:DAYLIGHT
TZOFFSETFROM:+0000
TZOFFSETTO:+0100
TZNAME:BST
DTSTART:20240331T010000
END:DAYLIGHT
BEGIN:STANDARD
TZOFFSETFROM:+0100
TZOFFSETTO:+0000
TZNAME:GMT
DTSTART:20241027T010000
END:STANDARD
BEGIN:DAYLIGHT
TZOFFSETFROM:+0000
TZOFFSETTO:+0100
TZNAME:BST
DTSTART:20250330T010000
END:DAYLIGHT
BEGIN:STANDARD
TZOFFSETFROM:+0100
TZOFFSETTO:+0000
TZNAME:GMT
DTSTART:20251026T010000
END:STANDARD
BEGIN:DAYLIGHT
TZOFFSETFROM:+0000
TZOFFSETTO:+0100
TZNAME:BST
DTSTART:20260329T010000
END:DAYLIGHT
BEGIN:STANDARD
TZOFFSETFROM:+0100
TZOFFSETTO:+0000
TZNAME:GMT
DTSTART:20261025T010000
END:STANDARD
END:VTIMEZONE
BEGIN:VEVENT
DTSTART;TZID=Europe/London:20251109T110000
DTEND;TZID=Europe/London:20251109T160000
DTSTAMP:20260419T225202
CREATED:20251030T093339Z
LAST-MODIFIED:20251104T181242Z
UID:27119-1762686000-1762704000@calendarioeventos.com
SUMMARY:Encuentro - De Vecino a Vecina
DESCRIPTION:Encuentro «De Vecino a Vecina» en la Plaza de la Constitución\, Arucas\, Gran Canaria.\n\n\nDescubre todo lo que hemos preparado\, junto a las asociaciones y colectivos de Arucas\, para 𝐃𝐄 𝐕𝐄𝐂𝐈𝐍𝐎 𝐀 𝐕𝐄𝐂𝐈𝐍𝐀 𝟐𝟎𝟐𝟓. \n👉🏻 Batucada\, papagüevos\, zona expositiva con asociaciones del municipio\, talleres y actividades\, animación infantil y mucho más. \n🎶 ¡Y para cerrar\, la mejor música con el concierto de @aseresmusica! \n\n11:00–16:00 h:\nBatucada y papagüevos\nTalleres y actividades en familia\nZona expositiva: asociaciones de Arucas.\n12:15 h – Espectáculo infantil Jaleox\n14:15 h – Concierto Aseres
URL:https://calendarioeventos.com/en/evento/encuentro-de-vecino-a-vecina/
LOCATION:Pl. de la Constitución\, 35400 Arucas\, Las Palmas
CATEGORIES:Actividades,Arucas,Concierto,Eventos gratuitos,Feria,Infantil
ATTACH;FMTTYPE=image/png:https://calendarioeventos.com/wp-content/uploads/2025/10/Screenshot-2025-10-30-at-09-31-32-Instagram.avif
END:VEVENT
END:VCALENDAR