BEGIN:VCALENDAR
VERSION:2.0
PRODID:-//Calendario de Eventos Gran Canaria - ECPv6.15.17.1//NONSGML v1.0//EN
CALSCALE:GREGORIAN
METHOD:PUBLISH
X-WR-CALNAME:Calendario de Eventos Gran Canaria
X-ORIGINAL-URL:https://calendarioeventos.com/en
X-WR-CALDESC:Events for Calendario de Eventos Gran Canaria
REFRESH-INTERVAL;VALUE=DURATION:PT1H
X-Robots-Tag:noindex
X-PUBLISHED-TTL:PT1H
BEGIN:VTIMEZONE
TZID:Europe/London
BEGIN:DAYLIGHT
TZOFFSETFROM:+0000
TZOFFSETTO:+0100
TZNAME:BST
DTSTART:20250330T010000
END:DAYLIGHT
BEGIN:STANDARD
TZOFFSETFROM:+0100
TZOFFSETTO:+0000
TZNAME:GMT
DTSTART:20251026T010000
END:STANDARD
BEGIN:DAYLIGHT
TZOFFSETFROM:+0000
TZOFFSETTO:+0100
TZNAME:BST
DTSTART:20260329T010000
END:DAYLIGHT
BEGIN:STANDARD
TZOFFSETFROM:+0100
TZOFFSETTO:+0000
TZNAME:GMT
DTSTART:20261025T010000
END:STANDARD
BEGIN:DAYLIGHT
TZOFFSETFROM:+0000
TZOFFSETTO:+0100
TZNAME:BST
DTSTART:20270328T010000
END:DAYLIGHT
BEGIN:STANDARD
TZOFFSETFROM:+0100
TZOFFSETTO:+0000
TZNAME:GMT
DTSTART:20271031T010000
END:STANDARD
END:VTIMEZONE
BEGIN:VEVENT
DTSTART;TZID=Europe/London:20260314T110000
DTEND;TZID=Europe/London:20260314T123000
DTSTAMP:20260420T031815
CREATED:20260313T113657Z
LAST-MODIFIED:20260313T113658Z
UID:65963-1773486000-1773491400@calendarioeventos.com
SUMMARY:Encuentro — «Místicas – Mes de la Mujer»
DESCRIPTION:Encuentro — «Místicas – Mes de la Mujer» en el Real Club Victoria\, Las Palmas de Gran Canaria. \nEste marzo\, celebramos el Día Internacional de la Mujer de una forma diferente: abriendo un espacio para recordar a aquellas mujeres que\, a lo largo de la historia\, experimentaron el encuentro con lo divino. Místicas\, filósofas\, poetas\, artistas\, visionarias… mujeres que\, a través de los siglos y en distintas tradiciones\, encarnaron la sabiduría\, la belleza y la paz en la unión con lo trascendente. \nMÍSTICAS – Mes de la Mujer. Este sábado 14 de marzo a las 11:00 h celebraremos un encuentro especial dedicado a mujeres que\, a lo largo de la historia\, vivieron una profunda conexión con lo divino: místicas\, filósofas\, poetas\, artistas y visionarias. Un espacio para descubrir y reflexionar sobre sus vidas\, pensamientos y legado. El evento se desarrollará en el Salón Noble (3ª planta). Entrada libre y gratuita.  \nInscripción por WhatsApp en este enlace: +34 644 186 767
URL:https://calendarioeventos.com/en/evento/encuentro-misticas-mes-de-la-mujer/
LOCATION:Real Club Victoria\, P.º las Canteras\, 4\, 35008 Las Palmas de Gran Canaria\, Las Palmas
CATEGORIES:Actividades,Charla,Eventos gratuitos,Las Palmas de GC
ATTACH;FMTTYPE=image/jpeg:https://calendarioeventos.com/wp-content/uploads/2026/03/encuentro-m-sticas-mes-de-la-mujer-1773401815743.jpeg
END:VEVENT
END:VCALENDAR