BEGIN:VCALENDAR
VERSION:2.0
PRODID:-//Calendario de Eventos Gran Canaria - ECPv6.15.17.1//NONSGML v1.0//EN
CALSCALE:GREGORIAN
METHOD:PUBLISH
X-WR-CALNAME:Calendario de Eventos Gran Canaria
X-ORIGINAL-URL:https://calendarioeventos.com/en
X-WR-CALDESC:Events for Calendario de Eventos Gran Canaria
REFRESH-INTERVAL;VALUE=DURATION:PT1H
X-Robots-Tag:noindex
X-PUBLISHED-TTL:PT1H
BEGIN:VTIMEZONE
TZID:Europe/London
BEGIN:DAYLIGHT
TZOFFSETFROM:+0000
TZOFFSETTO:+0100
TZNAME:BST
DTSTART:20240331T010000
END:DAYLIGHT
BEGIN:STANDARD
TZOFFSETFROM:+0100
TZOFFSETTO:+0000
TZNAME:GMT
DTSTART:20241027T010000
END:STANDARD
BEGIN:DAYLIGHT
TZOFFSETFROM:+0000
TZOFFSETTO:+0100
TZNAME:BST
DTSTART:20250330T010000
END:DAYLIGHT
BEGIN:STANDARD
TZOFFSETFROM:+0100
TZOFFSETTO:+0000
TZNAME:GMT
DTSTART:20251026T010000
END:STANDARD
BEGIN:DAYLIGHT
TZOFFSETFROM:+0000
TZOFFSETTO:+0100
TZNAME:BST
DTSTART:20260329T010000
END:DAYLIGHT
BEGIN:STANDARD
TZOFFSETFROM:+0100
TZOFFSETTO:+0000
TZNAME:GMT
DTSTART:20261025T010000
END:STANDARD
END:VTIMEZONE
BEGIN:VEVENT
DTSTART;TZID=Europe/London:20251218T100000
DTEND;TZID=Europe/London:20251218T140000
DTSTAMP:20260420T022029
CREATED:20251216T095229Z
LAST-MODIFIED:20251216T095229Z
UID:44051-1766052000-1766066400@calendarioeventos.com
SUMMARY:Encuentro - "Misturas\, senderos y culturas"
DESCRIPTION:Encuentro multicultural «Misturas\, senderos y culturas» en la Plaza del Pilar de Guanarteme\, Las Palmas de Gran Canaria. \nTe invitamos a participar en el Encuentro Intercultural 🌎MISTURA\, SENDEROS Y CULTURAS 👣 para conmemorar el Día Internacional de las Personas Migrantes. \n👀 No te pierdas los talleres que realizaremos para combatir los bulos y la desinformación y conocer mejor y empatizar con las realidades migratorias. \nVENTE A ESTE ESPACIO DE CONVIVENCIA Y APRENDIZAJE y DIFUNDE el evento para que más gente pueda unirse.
URL:https://calendarioeventos.com/en/evento/encuentro-misturas-senderos-y-culturas/
LOCATION:Plaza Del Pilar\, Pl. del Pilar\, 35010 Las Palmas de Gran Canaria\, Las Palmas
CATEGORIES:Actividades,Charla,Eventos gratuitos,Las Palmas de GC,Música,Taller
ATTACH;FMTTYPE=image/png:https://calendarioeventos.com/wp-content/uploads/2025/12/Screenshot-2025-12-16-at-09-46-23-Instagram-•-Mensajes.avif
END:VEVENT
END:VCALENDAR