BEGIN:VCALENDAR
VERSION:2.0
PRODID:-//Calendario de Eventos Gran Canaria - ECPv6.15.17.1//NONSGML v1.0//EN
CALSCALE:GREGORIAN
METHOD:PUBLISH
X-WR-CALNAME:Calendario de Eventos Gran Canaria
X-ORIGINAL-URL:https://calendarioeventos.com/en
X-WR-CALDESC:Events for Calendario de Eventos Gran Canaria
REFRESH-INTERVAL;VALUE=DURATION:PT1H
X-Robots-Tag:noindex
X-PUBLISHED-TTL:PT1H
BEGIN:VTIMEZONE
TZID:Europe/London
BEGIN:DAYLIGHT
TZOFFSETFROM:+0000
TZOFFSETTO:+0100
TZNAME:BST
DTSTART:20240331T010000
END:DAYLIGHT
BEGIN:STANDARD
TZOFFSETFROM:+0100
TZOFFSETTO:+0000
TZNAME:GMT
DTSTART:20241027T010000
END:STANDARD
BEGIN:DAYLIGHT
TZOFFSETFROM:+0000
TZOFFSETTO:+0100
TZNAME:BST
DTSTART:20250330T010000
END:DAYLIGHT
BEGIN:STANDARD
TZOFFSETFROM:+0100
TZOFFSETTO:+0000
TZNAME:GMT
DTSTART:20251026T010000
END:STANDARD
BEGIN:DAYLIGHT
TZOFFSETFROM:+0000
TZOFFSETTO:+0100
TZNAME:BST
DTSTART:20260329T010000
END:DAYLIGHT
BEGIN:STANDARD
TZOFFSETFROM:+0100
TZOFFSETTO:+0000
TZNAME:GMT
DTSTART:20261025T010000
END:STANDARD
END:VTIMEZONE
BEGIN:VEVENT
DTSTART;TZID=Europe/London:20251212T223000
DTEND;TZID=Europe/London:20251212T233000
DTSTAMP:20260424T164709
CREATED:20251128T105748Z
LAST-MODIFIED:20251212T120546Z
UID:38416-1765578600-1765582200@calendarioeventos.com
SUMMARY:Entre Luces y Buenos Deseos - 12 diciembre
DESCRIPTION:Programa de la campaña de Navidad 2025 de Santa Lucía de Tirajana\, Gran Canaria\, Entre Luces y Buenos Deseos\, del 12 de diciembre: \n\nTiburón en la piscina: Proyección inmersiva en medio acuático\, divertida y segura.\nViernes 12 de diciembre\nA las 22:30 h. De 14 a 30 años.\nPiscina del Complejo Deportivo Los Llanos\nGratis. Aforo limitado.\nInscripciones en https://bit.ly/tiburonpiscina\nMercado de Navidad de Sardina del Sur: 12\, 13 y 14 de diciembre\nMercado navideño con puestos de artesanía\,\ngastronomía y actividades para toda la familia.\nHorarios:\nViernes 12: De 17:00 a 22:00 h\n(inauguración a las 17:00 h)\nSábado 13: de 10:00 a 22:00 h\nDomingo 14: de 10:00 a 15:00 h \n\nPrograma del Mercado:\n\n\n\n\n\n\n\n\n\n17:00 h. Pasacalle con banda Archipiélago \n\n\n17:30 a 21:00 h. Belén Centro de Mayores de Sardina \n\n\n17:00 a 20:00 h. Talleres infantiles \n\n\n17:00 a 20:00 h. Visita de Papa Noel al Bosque Encantado \n\n\n19:30 h. Espectáculo musical «Mujeres D» \n\n\n21:30 h. Actuación de Keyvn Carballo y Zaida Jiménez \n\n\n23:00 h. Cierre del Bosque Encantado \n\n\n\n\n\n\n 
URL:https://calendarioeventos.com/en/evento/entre-luces-y-buenos-deseos-12-diciembre/
LOCATION:Santa Lucía de Tirajana\, 35280 Las Palmas
CATEGORIES:Cultura,Deporte,Eventos gratuitos,Jóvenes,Market,Proyecciones,Santa Lucía de Tirajana
ATTACH;FMTTYPE=image/png:https://calendarioeventos.com/wp-content/uploads/2025/11/Screenshot-2025-12-04-at-11-11-06-Instagram.avif
END:VEVENT
END:VCALENDAR