BEGIN:VCALENDAR
VERSION:2.0
PRODID:-//Calendario de Eventos Gran Canaria - ECPv6.15.17.1//NONSGML v1.0//EN
CALSCALE:GREGORIAN
METHOD:PUBLISH
X-WR-CALNAME:Calendario de Eventos Gran Canaria
X-ORIGINAL-URL:https://calendarioeventos.com/en
X-WR-CALDESC:Events for Calendario de Eventos Gran Canaria
REFRESH-INTERVAL;VALUE=DURATION:PT1H
X-Robots-Tag:noindex
X-PUBLISHED-TTL:PT1H
BEGIN:VTIMEZONE
TZID:Europe/London
BEGIN:DAYLIGHT
TZOFFSETFROM:+0000
TZOFFSETTO:+0100
TZNAME:BST
DTSTART:20240331T010000
END:DAYLIGHT
BEGIN:STANDARD
TZOFFSETFROM:+0100
TZOFFSETTO:+0000
TZNAME:GMT
DTSTART:20241027T010000
END:STANDARD
BEGIN:DAYLIGHT
TZOFFSETFROM:+0000
TZOFFSETTO:+0100
TZNAME:BST
DTSTART:20250330T010000
END:DAYLIGHT
BEGIN:STANDARD
TZOFFSETFROM:+0100
TZOFFSETTO:+0000
TZNAME:GMT
DTSTART:20251026T010000
END:STANDARD
BEGIN:DAYLIGHT
TZOFFSETFROM:+0000
TZOFFSETTO:+0100
TZNAME:BST
DTSTART:20260329T010000
END:DAYLIGHT
BEGIN:STANDARD
TZOFFSETFROM:+0100
TZOFFSETTO:+0000
TZNAME:GMT
DTSTART:20261025T010000
END:STANDARD
END:VTIMEZONE
BEGIN:VEVENT
DTSTART;TZID=Europe/London:20251220T170000
DTEND;TZID=Europe/London:20251220T190000
DTSTAMP:20260424T002702
CREATED:20251209T123839Z
LAST-MODIFIED:20251209T123839Z
UID:42013-1766250000-1766257200@calendarioeventos.com
SUMMARY:Entre Luces y Buenos Deseos - 20 diciembre
DESCRIPTION:Programa de la campaña de Navidad 2025 de Santa Lucía de Tirajana\, Gran Canaria\, Entre Luces y Buenos Deseos\, del 20 de diciembre: \n\nGran Fiesta Infantil\nSábado 20 de diciembre\, 17:00 h. – Zona Peatonal Avda. de Canarias
URL:https://calendarioeventos.com/en/evento/entre-luces-y-buenos-deseos-20-diciembre/
LOCATION:Av. de Canarias\, 35110 Vecindario\, Las Palmas
CATEGORIES:Entretenimiento,Eventos gratuitos,Fiesta,Infantil,Música,Santa Lucía de Tirajana
ATTACH;FMTTYPE=image/png:https://calendarioeventos.com/wp-content/uploads/2025/11/Screenshot-2025-11-28-at-10-48-10-Programa-Navidad-2025-2026-Santa-Lucia-de-Tirajana2.pdf.avif
END:VEVENT
END:VCALENDAR