BEGIN:VCALENDAR
VERSION:2.0
PRODID:-//Calendario de Eventos Gran Canaria - ECPv6.15.17.1//NONSGML v1.0//EN
CALSCALE:GREGORIAN
METHOD:PUBLISH
X-WR-CALNAME:Calendario de Eventos Gran Canaria
X-ORIGINAL-URL:https://calendarioeventos.com/en
X-WR-CALDESC:Events for Calendario de Eventos Gran Canaria
REFRESH-INTERVAL;VALUE=DURATION:PT1H
X-Robots-Tag:noindex
X-PUBLISHED-TTL:PT1H
BEGIN:VTIMEZONE
TZID:Europe/London
BEGIN:DAYLIGHT
TZOFFSETFROM:+0000
TZOFFSETTO:+0100
TZNAME:BST
DTSTART:20250330T010000
END:DAYLIGHT
BEGIN:STANDARD
TZOFFSETFROM:+0100
TZOFFSETTO:+0000
TZNAME:GMT
DTSTART:20251026T010000
END:STANDARD
BEGIN:DAYLIGHT
TZOFFSETFROM:+0000
TZOFFSETTO:+0100
TZNAME:BST
DTSTART:20260329T010000
END:DAYLIGHT
BEGIN:STANDARD
TZOFFSETFROM:+0100
TZOFFSETTO:+0000
TZNAME:GMT
DTSTART:20261025T010000
END:STANDARD
BEGIN:DAYLIGHT
TZOFFSETFROM:+0000
TZOFFSETTO:+0100
TZNAME:BST
DTSTART:20270328T010000
END:DAYLIGHT
BEGIN:STANDARD
TZOFFSETFROM:+0100
TZOFFSETTO:+0000
TZNAME:GMT
DTSTART:20271031T010000
END:STANDARD
END:VTIMEZONE
BEGIN:VEVENT
DTSTART;TZID=Europe/London:20260103T163000
DTEND;TZID=Europe/London:20260103T193000
DTSTAMP:20260424T021136
CREATED:20251222T110050Z
LAST-MODIFIED:20251222T110300Z
UID:46286-1767457800-1767468600@calendarioeventos.com
SUMMARY:Entre Luces y Buenos Deseos - 3 enero
DESCRIPTION:Programa de la campaña de Navidad 2025 de Santa Lucía de Tirajana\, Gran Canaria\, Entre Luces y Buenos Deseos\, del 3 de enero: \n\nFeria de Reyes 2026\nDel 2 al 5 de enero de 2026\, de 09:00 a 21:00 h.\nZona peatonal Avenida de Canarias.\nFiesta Infantil con hinchables y pintacaras.\nSábado 3 de enero\, 16:30 h.\nPlaza de Casa Pastores.\nEspectáculo Infantil.\nSábado 3 de enero\, 18:30 h\nPlaza de Los Algodoneros.
URL:https://calendarioeventos.com/en/evento/entre-luces-y-buenos-deseos-3-enero/
LOCATION:Santa Lucía de Tirajana\, 35280 Las Palmas
CATEGORIES:Entretenimiento,Eventos gratuitos,Fiesta,Infantil,Música,Santa Lucía de Tirajana
ATTACH;FMTTYPE=image/png:https://calendarioeventos.com/wp-content/uploads/2025/11/Screenshot-2025-11-28-at-10-48-10-Programa-Navidad-2025-2026-Santa-Lucia-de-Tirajana2.pdf.avif
END:VEVENT
END:VCALENDAR