BEGIN:VCALENDAR
VERSION:2.0
PRODID:-//Calendario de Eventos Gran Canaria - ECPv6.15.17.1//NONSGML v1.0//EN
CALSCALE:GREGORIAN
METHOD:PUBLISH
X-WR-CALNAME:Calendario de Eventos Gran Canaria
X-ORIGINAL-URL:https://calendarioeventos.com/en
X-WR-CALDESC:Events for Calendario de Eventos Gran Canaria
REFRESH-INTERVAL;VALUE=DURATION:PT1H
X-Robots-Tag:noindex
X-PUBLISHED-TTL:PT1H
BEGIN:VTIMEZONE
TZID:Europe/London
BEGIN:DAYLIGHT
TZOFFSETFROM:+0000
TZOFFSETTO:+0100
TZNAME:BST
DTSTART:20240331T010000
END:DAYLIGHT
BEGIN:STANDARD
TZOFFSETFROM:+0100
TZOFFSETTO:+0000
TZNAME:GMT
DTSTART:20241027T010000
END:STANDARD
BEGIN:DAYLIGHT
TZOFFSETFROM:+0000
TZOFFSETTO:+0100
TZNAME:BST
DTSTART:20250330T010000
END:DAYLIGHT
BEGIN:STANDARD
TZOFFSETFROM:+0100
TZOFFSETTO:+0000
TZNAME:GMT
DTSTART:20251026T010000
END:STANDARD
BEGIN:DAYLIGHT
TZOFFSETFROM:+0000
TZOFFSETTO:+0100
TZNAME:BST
DTSTART:20260329T010000
END:DAYLIGHT
BEGIN:STANDARD
TZOFFSETFROM:+0100
TZOFFSETTO:+0000
TZNAME:GMT
DTSTART:20261025T010000
END:STANDARD
END:VTIMEZONE
BEGIN:VEVENT
DTSTART;TZID=Europe/London:20251207T160000
DTEND;TZID=Europe/London:20251207T220000
DTSTAMP:20260425T123730
CREATED:20251202T195035Z
LAST-MODIFIED:20251202T195035Z
UID:39627-1765123200-1765144800@calendarioeventos.com
SUMMARY:Excursión Navideña a Las Palmas
DESCRIPTION:Excursión Navideña a Las Palmas desde Ingenio\, Gran Canaria. \nVIsita al Parque Santa Catalina: mercado\, belén y actividades para toda la familia. \nPlazas limitadas. Contacto: \nparticipacioningenioeyt@gmail.com \n928780076 extensión 6051 \n648826072 (Whatsapp)
URL:https://calendarioeventos.com/en/evento/excursion-navidena-a-las-palmas/
LOCATION:Ingenio
CATEGORIES:Actividades,Infantil,Ingenio,Las Palmas de GC,Market
ATTACH;FMTTYPE=image/jpeg:https://calendarioeventos.com/wp-content/uploads/2025/12/CAMPANA-NAVIDAD-2025.avif
END:VEVENT
END:VCALENDAR