BEGIN:VCALENDAR
VERSION:2.0
PRODID:-//Calendario de Eventos Gran Canaria - ECPv6.15.17.1//NONSGML v1.0//EN
CALSCALE:GREGORIAN
METHOD:PUBLISH
X-WR-CALNAME:Calendario de Eventos Gran Canaria
X-ORIGINAL-URL:https://calendarioeventos.com/en
X-WR-CALDESC:Events for Calendario de Eventos Gran Canaria
REFRESH-INTERVAL;VALUE=DURATION:PT1H
X-Robots-Tag:noindex
X-PUBLISHED-TTL:PT1H
BEGIN:VTIMEZONE
TZID:Europe/London
BEGIN:DAYLIGHT
TZOFFSETFROM:+0000
TZOFFSETTO:+0100
TZNAME:BST
DTSTART:20240331T010000
END:DAYLIGHT
BEGIN:STANDARD
TZOFFSETFROM:+0100
TZOFFSETTO:+0000
TZNAME:GMT
DTSTART:20241027T010000
END:STANDARD
BEGIN:DAYLIGHT
TZOFFSETFROM:+0000
TZOFFSETTO:+0100
TZNAME:BST
DTSTART:20250330T010000
END:DAYLIGHT
BEGIN:STANDARD
TZOFFSETFROM:+0100
TZOFFSETTO:+0000
TZNAME:GMT
DTSTART:20251026T010000
END:STANDARD
BEGIN:DAYLIGHT
TZOFFSETFROM:+0000
TZOFFSETTO:+0100
TZNAME:BST
DTSTART:20260329T010000
END:DAYLIGHT
BEGIN:STANDARD
TZOFFSETFROM:+0100
TZOFFSETTO:+0000
TZNAME:GMT
DTSTART:20261025T010000
END:STANDARD
END:VTIMEZONE
BEGIN:VEVENT
DTSTART;TZID=Europe/London:20251220T100000
DTEND;TZID=Europe/London:20251220T233000
DTSTAMP:20260425T125741
CREATED:20251209T112147Z
LAST-MODIFIED:20251209T112147Z
UID:41953-1766224800-1766273400@calendarioeventos.com
SUMMARY:Feliz Navidad en Agüimes 20 diciembre
DESCRIPTION:Programa de «Feliz Navidad 2025» en Agüimes del 20 de diciembre: \n\nLA RUTA DE LA NAVIDAD.\nPOLIDEPORTIVO ARINAGA\n10:00 Talleres y atracciones infantiles.\nVisita del Paje Real.\nEspectáculo: ‘Fun\, Fun\, Fun’. Totó el Payaso.\n19:30 Concierto de Navidad de Los Gofiones.\nTeatro Auditorio.\nEntrada: 10 €\nwww.tureservaonline.es\n22:00 Verbena navideña.\nPlaza del Rosario.\nArmonía Show\, Qué Chimba y DJ Promaster.
URL:https://calendarioeventos.com/en/evento/feliz-navidad-en-aguimes-20-diciembre/
LOCATION:Agüimes\, Agüimes\, Las Palmas\, España
CATEGORIES:Agüimes,Concierto,Entretenimiento,Eventos gratuitos,Infantil,Juegos,Música,Taller,Verbena
ATTACH;FMTTYPE=image/jpeg:https://calendarioeventos.com/wp-content/uploads/2025/12/AF_PROGRAMA-NAVIDAD-2025-26_DIGITAL-1-1-1-722x1024-1.avif
END:VEVENT
END:VCALENDAR