BEGIN:VCALENDAR
VERSION:2.0
PRODID:-//Calendario de Eventos Gran Canaria - ECPv6.15.17.1//NONSGML v1.0//EN
CALSCALE:GREGORIAN
METHOD:PUBLISH
X-WR-CALNAME:Calendario de Eventos Gran Canaria
X-ORIGINAL-URL:https://calendarioeventos.com/en
X-WR-CALDESC:Events for Calendario de Eventos Gran Canaria
REFRESH-INTERVAL;VALUE=DURATION:PT1H
X-Robots-Tag:noindex
X-PUBLISHED-TTL:PT1H
BEGIN:VTIMEZONE
TZID:Europe/London
BEGIN:DAYLIGHT
TZOFFSETFROM:+0000
TZOFFSETTO:+0100
TZNAME:BST
DTSTART:20250330T010000
END:DAYLIGHT
BEGIN:STANDARD
TZOFFSETFROM:+0100
TZOFFSETTO:+0000
TZNAME:GMT
DTSTART:20251026T010000
END:STANDARD
BEGIN:DAYLIGHT
TZOFFSETFROM:+0000
TZOFFSETTO:+0100
TZNAME:BST
DTSTART:20260329T010000
END:DAYLIGHT
BEGIN:STANDARD
TZOFFSETFROM:+0100
TZOFFSETTO:+0000
TZNAME:GMT
DTSTART:20261025T010000
END:STANDARD
BEGIN:DAYLIGHT
TZOFFSETFROM:+0000
TZOFFSETTO:+0100
TZNAME:BST
DTSTART:20270328T010000
END:DAYLIGHT
BEGIN:STANDARD
TZOFFSETFROM:+0100
TZOFFSETTO:+0000
TZNAME:GMT
DTSTART:20271031T010000
END:STANDARD
END:VTIMEZONE
BEGIN:VEVENT
DTSTART;TZID=Europe/London:20260104T100000
DTEND;TZID=Europe/London:20260104T210000
DTSTAMP:20260425T113315
CREATED:20251218T164518Z
LAST-MODIFIED:20251222T143709Z
UID:10011957-1767520800-1767560400@calendarioeventos.com
SUMMARY:Feria de Artesanía de San Telmo
DESCRIPTION:31ª Feria de Artesanía de Gran Canaria en el Parque de San Telmo\, Las Palmas de Gran Canaria. \n\nLa primera Feria de Artesanía de Gran Canaria del calendario anual regresa\, del 2 al 5 de enero de 2025\, a San Telmo para celebrar su 31º edición. \nLa popular Feria de Artesanía de Gran Canaria  de San Telmo se convierte cada año en el mejor escaparate de promoción y venta para los productores de la isla. Desde el Cabildo de Gran Canaria se ofrece a los artesanos la oportunidad de instalarse en el centro del municipio capitalino\, lugar habitual de compras de muchos grancanarios\, así como de los numerosos turistas que nos visitan cada año por estas fechas. \nPrograma: \n\n2 enero a las 18.00 horas – LA TROVA.\n3 enero a las 18:00 horas – Salomé Moreno.\n4 enero a las 18:00 horas – Sonder.\n5 enero a las 20:00 horas – Non Trubada.\n\nMás información en la página web
URL:https://calendarioeventos.com/en/evento/feria-de-artesania-de-san-telmo/2026-01-04/
LOCATION:Parque San Telmo\, Av. Rafael Cabrera\, 30\, 35002 Las Palmas de Gran Canaria\, Las Palmas
CATEGORIES:Actividades,Arte,Eventos gratuitos,Feria,Las Palmas de GC,Market
ATTACH;FMTTYPE=image/png:https://calendarioeventos.com/wp-content/uploads/2025/12/FEDAC_FERIA-ST26_WEB_INFECAR_600X600.avif
END:VEVENT
END:VCALENDAR