BEGIN:VCALENDAR
VERSION:2.0
PRODID:-//Calendario de Eventos Gran Canaria - ECPv6.15.17.1//NONSGML v1.0//EN
CALSCALE:GREGORIAN
METHOD:PUBLISH
X-WR-CALNAME:Calendario de Eventos Gran Canaria
X-ORIGINAL-URL:https://calendarioeventos.com/en
X-WR-CALDESC:Events for Calendario de Eventos Gran Canaria
REFRESH-INTERVAL;VALUE=DURATION:PT1H
X-Robots-Tag:noindex
X-PUBLISHED-TTL:PT1H
BEGIN:VTIMEZONE
TZID:Europe/London
BEGIN:DAYLIGHT
TZOFFSETFROM:+0000
TZOFFSETTO:+0100
TZNAME:BST
DTSTART:20240331T010000
END:DAYLIGHT
BEGIN:STANDARD
TZOFFSETFROM:+0100
TZOFFSETTO:+0000
TZNAME:GMT
DTSTART:20241027T010000
END:STANDARD
BEGIN:DAYLIGHT
TZOFFSETFROM:+0000
TZOFFSETTO:+0100
TZNAME:BST
DTSTART:20250330T010000
END:DAYLIGHT
BEGIN:STANDARD
TZOFFSETFROM:+0100
TZOFFSETTO:+0000
TZNAME:GMT
DTSTART:20251026T010000
END:STANDARD
BEGIN:DAYLIGHT
TZOFFSETFROM:+0000
TZOFFSETTO:+0100
TZNAME:BST
DTSTART:20260329T010000
END:DAYLIGHT
BEGIN:STANDARD
TZOFFSETFROM:+0100
TZOFFSETTO:+0000
TZNAME:GMT
DTSTART:20261025T010000
END:STANDARD
END:VTIMEZONE
BEGIN:VEVENT
DTSTART;TZID=Europe/London:20251122T100000
DTEND;TZID=Europe/London:20251122T140000
DTSTAMP:20260425T131536
CREATED:20251107T103245Z
LAST-MODIFIED:20251119T195504Z
UID:30731-1763805600-1763820000@calendarioeventos.com
SUMMARY:Feria de los Colectivos y festival Folk
DESCRIPTION:Feria de los Colectivos y festival Folk en la Plaza de la Alameda\, La Aldea de San Nicolás\, Gran Canaria. \nEste sábado\, 22 de noviembre\, a partir de las 10:00h en La Alameda\, el área de Participación Ciudadana organiza por primera vez una feria que reúne a los colectivos del municipio\, dando visibilidad al gran trabajo que realizan durante todo el año. Contaremos con 19 stands que muestran la diversidad y fuerza del tejido asociativo aldeano. \nPROGRAMA DE ACTIVIDADES \n10:00 – Inicio de la feria\n10:00 – Talleres infantiles\n10:15 – Retransmisión de radioaficionados\n10:15 – Exhibición de vehículos de radio control\n10:30 – Vinilado de coche de rally\n10:30 – Talleres de juegos tradicionales \n11:00 – Firma de libros (Asoc. Cultural\, Lúdica y Deportiva GUGUY)\n11:30 – Exhibición de simulador de rally\n12:00 – Concierto musical “Festival Folk”
URL:https://calendarioeventos.com/en/evento/feria-de-los-colectivos-y-festival-folk/
LOCATION:Pl. de la Alameda\, 35470 La Aldea de San Nicolas de Tolentino\, Las Palmas
CATEGORIES:Actividades,Eventos gratuitos,Feria,Festival,Juegos,La Aldea,Literatura,Taller
ATTACH;FMTTYPE=image/png:https://calendarioeventos.com/wp-content/uploads/2025/11/Screenshot-2025-11-19-at-19-53-00-3-Instagram.avif
END:VEVENT
END:VCALENDAR