BEGIN:VCALENDAR
VERSION:2.0
PRODID:-//Calendario de Eventos Gran Canaria - ECPv6.15.17.1//NONSGML v1.0//EN
CALSCALE:GREGORIAN
METHOD:PUBLISH
X-WR-CALNAME:Calendario de Eventos Gran Canaria
X-ORIGINAL-URL:https://calendarioeventos.com/en
X-WR-CALDESC:Events for Calendario de Eventos Gran Canaria
REFRESH-INTERVAL;VALUE=DURATION:PT1H
X-Robots-Tag:noindex
X-PUBLISHED-TTL:PT1H
BEGIN:VTIMEZONE
TZID:Europe/London
BEGIN:DAYLIGHT
TZOFFSETFROM:+0000
TZOFFSETTO:+0100
TZNAME:BST
DTSTART:20250330T010000
END:DAYLIGHT
BEGIN:STANDARD
TZOFFSETFROM:+0100
TZOFFSETTO:+0000
TZNAME:GMT
DTSTART:20251026T010000
END:STANDARD
BEGIN:DAYLIGHT
TZOFFSETFROM:+0000
TZOFFSETTO:+0100
TZNAME:BST
DTSTART:20260329T010000
END:DAYLIGHT
BEGIN:STANDARD
TZOFFSETFROM:+0100
TZOFFSETTO:+0000
TZNAME:GMT
DTSTART:20261025T010000
END:STANDARD
BEGIN:DAYLIGHT
TZOFFSETFROM:+0000
TZOFFSETTO:+0100
TZNAME:BST
DTSTART:20270328T010000
END:DAYLIGHT
BEGIN:STANDARD
TZOFFSETFROM:+0100
TZOFFSETTO:+0000
TZNAME:GMT
DTSTART:20271031T010000
END:STANDARD
END:VTIMEZONE
BEGIN:VEVENT
DTSTART;TZID=Europe/London:20260308T100000
DTEND;TZID=Europe/London:20260308T150000
DTSTAMP:20260423T160857
CREATED:20260226T104451Z
LAST-MODIFIED:20260228T191020Z
UID:10014430-1772964000-1772982000@calendarioeventos.com
SUMMARY:Feria Europea del Queso
DESCRIPTION:Feria – Feria Europea del Queso en La Aldea de San Nicolás\, La Aldea\, Gran Canaria. \nLlega la Feria Europea del Queso a La Aldea de San Nicolás. Dos días dedicados a los amantes del queso donde encontrarán queserías\, catas\, conciertos y actividades diversas. \nEl horario será:\n– 7 de marzo: 10:00 a 19:00 horas.\n– 8 de marzo: 10:00 a 15:00 horas. \nUn planazo para venir en familia\, con amigos… o para darte un homenaje quesero sin excusas 😌 \nProgramación: \nSábado 7 de marzo: \n🕙 10:00 h.: Cata “Despensa de sabores” en la Plaza de La Alameda\, organizada por el Gobierno de Canarias\, el Cabildo de Gran Canaria y el Ayuntamiento de La Aldea de San Nicolás.\n🕙 10:00 h.: Inauguración de la exposición “Mujeres con mayúsculas” en el Centro de Mayores.\n🕚 11:00 h.: Acto institucional con homenaje a las mujeres (8M) y entrega de reconocimientos. Plaza de La Alameda.\n🕛 12:00 h.: Música en directo con Paco Guedes y Guarasón.\n🕒 15:00 h.: Carnaval de Día en el entorno de la Plaza de la Fundación Canaria Proyecto Comunitario de La Aldea.\n🕕 18:00 h.: Pasacalles por las calles del Mercadillo y la Feria Europea del Queso. \nDomingo 8 de marzo \n🕙 10:00 h.: Catas “Despensa de sabores”\n🕧 12.30 h.:Concierto de Germán López\n🕒 15.00 h.: Clausura
URL:https://calendarioeventos.com/en/evento/feria-europea-del-queso/2026-03-08/
LOCATION:La Aldea de San Nicolás\, Las Palmas
CATEGORIES:Actividades,Concierto,Eventos gratuitos,Feria,Gastronomía,La Aldea
ATTACH;FMTTYPE=image/webp:https://calendarioeventos.com/wp-content/uploads/2026/02/feria-europea-del-queso-1772102689888.avif
END:VEVENT
END:VCALENDAR