BEGIN:VCALENDAR
VERSION:2.0
PRODID:-//Calendario de Eventos Gran Canaria - ECPv6.15.17.1//NONSGML v1.0//EN
CALSCALE:GREGORIAN
METHOD:PUBLISH
X-WR-CALNAME:Calendario de Eventos Gran Canaria
X-ORIGINAL-URL:https://calendarioeventos.com/en
X-WR-CALDESC:Events for Calendario de Eventos Gran Canaria
REFRESH-INTERVAL;VALUE=DURATION:PT1H
X-Robots-Tag:noindex
X-PUBLISHED-TTL:PT1H
BEGIN:VTIMEZONE
TZID:Europe/London
BEGIN:DAYLIGHT
TZOFFSETFROM:+0000
TZOFFSETTO:+0100
TZNAME:BST
DTSTART:20250330T010000
END:DAYLIGHT
BEGIN:STANDARD
TZOFFSETFROM:+0100
TZOFFSETTO:+0000
TZNAME:GMT
DTSTART:20251026T010000
END:STANDARD
BEGIN:DAYLIGHT
TZOFFSETFROM:+0000
TZOFFSETTO:+0100
TZNAME:BST
DTSTART:20260329T010000
END:DAYLIGHT
BEGIN:STANDARD
TZOFFSETFROM:+0100
TZOFFSETTO:+0000
TZNAME:GMT
DTSTART:20261025T010000
END:STANDARD
BEGIN:DAYLIGHT
TZOFFSETFROM:+0000
TZOFFSETTO:+0100
TZNAME:BST
DTSTART:20270328T010000
END:DAYLIGHT
BEGIN:STANDARD
TZOFFSETFROM:+0100
TZOFFSETTO:+0000
TZNAME:GMT
DTSTART:20271031T010000
END:STANDARD
END:VTIMEZONE
BEGIN:VEVENT
DTSTART;TZID=Europe/London:20260320T100000
DTEND;TZID=Europe/London:20260320T203000
DTSTAMP:20260419T160555
CREATED:20260223T110339Z
LAST-MODIFIED:20260318T085443Z
UID:61003-1774000800-1774038600@calendarioeventos.com
SUMMARY:Feria — «Feria de Artesanía Gran Canaria Primavera Sur»
DESCRIPTION:Feria — 15ª Feria de Artesanía Gran Canaria Primavera Sur en el Faro de Maspalomas\, San Bartolomé de Tirajana\, Gran Canaria. \nLa cita más primaveral de las ferias de artesanía organizadas por el Cabildo de Gran Canaria se celebrará del 20 al 29 de marzo en el enclave incomparable del entorno del Faro de Maspalomas. \nLa Feria de Artesanía Primavera Sur es el espacio ideal para visualizar y apoyar la comercialización del producto artesano\, en el que cobra un especial protagonismo el turista que disfruta de Gran Canaria. \nTrabajos de alfarería\, cestería\, cuchilleros\, cerámica\, joyería\, forjadores\, hiladores de lana\, productores de calzado y una larga lista de profesionales de la artesanía muestran al público visitante sus productos de la mejor calidad y garante de las tradiciones laborales de nuestra tierra. \nMás información en este enlace: https://infecar.es/ferias-y-eventos/15a-feria-de-artesania-gran-canaria-primavera-sur/
URL:https://calendarioeventos.com/en/evento/feria-feria-de-artesania-gran-canaria-primavera-sur/
LOCATION:Faro de Maspalomas\, Faro de Maspalomas\, Pl. del Faro\, 15\, 35100 Maspalomas\, Las Palmas
CATEGORIES:Actividades,Arte,Eventos gratuitos,Feria,San Bartolomé de Tirajana
ATTACH;FMTTYPE=image/png:https://calendarioeventos.com/wp-content/uploads/2026/02/FERIA-PS26_WEB_INFECAR_600X600-1.avif
END:VEVENT
END:VCALENDAR