BEGIN:VCALENDAR
VERSION:2.0
PRODID:-//Calendario de Eventos Gran Canaria - ECPv6.15.17.1//NONSGML v1.0//EN
CALSCALE:GREGORIAN
METHOD:PUBLISH
X-WR-CALNAME:Calendario de Eventos Gran Canaria
X-ORIGINAL-URL:https://calendarioeventos.com/en
X-WR-CALDESC:Events for Calendario de Eventos Gran Canaria
REFRESH-INTERVAL;VALUE=DURATION:PT1H
X-Robots-Tag:noindex
X-PUBLISHED-TTL:PT1H
BEGIN:VTIMEZONE
TZID:Europe/London
BEGIN:DAYLIGHT
TZOFFSETFROM:+0000
TZOFFSETTO:+0100
TZNAME:BST
DTSTART:20240331T010000
END:DAYLIGHT
BEGIN:STANDARD
TZOFFSETFROM:+0100
TZOFFSETTO:+0000
TZNAME:GMT
DTSTART:20241027T010000
END:STANDARD
BEGIN:DAYLIGHT
TZOFFSETFROM:+0000
TZOFFSETTO:+0100
TZNAME:BST
DTSTART:20250330T010000
END:DAYLIGHT
BEGIN:STANDARD
TZOFFSETFROM:+0100
TZOFFSETTO:+0000
TZNAME:GMT
DTSTART:20251026T010000
END:STANDARD
BEGIN:DAYLIGHT
TZOFFSETFROM:+0000
TZOFFSETTO:+0100
TZNAME:BST
DTSTART:20260329T010000
END:DAYLIGHT
BEGIN:STANDARD
TZOFFSETFROM:+0100
TZOFFSETTO:+0000
TZNAME:GMT
DTSTART:20261025T010000
END:STANDARD
END:VTIMEZONE
BEGIN:VEVENT
DTSTART;TZID=Europe/London:20251213T213000
DTEND;TZID=Europe/London:20251213T233000
DTSTAMP:20260424T112558
CREATED:20251210T141827Z
LAST-MODIFIED:20251210T141827Z
UID:42430-1765661400-1765668600@calendarioeventos.com
SUMMARY:Festival - Anti Christmas Rock Fest
DESCRIPTION:Festival «Anti Christmas Rock Fest» en Rock’n’Roll Café Bar\, Playa del Inglés\, San Bartolomé\, Gran Canaria. \nCon Bífidios – Final Day – ToK2 \nEntrada libre!
URL:https://calendarioeventos.com/en/evento/festival-anti-christmas-rock-fest/
LOCATION:Rock’ n’ Roll Café Bar\, Av. de Tenerife\, 5\, 35100 San Bartolomé de Tirajana\, Las Palmas
CATEGORIES:Cultura,Eventos gratuitos,Festival,San Bartolomé de Tirajana
ATTACH;FMTTYPE=image/png:https://calendarioeventos.com/wp-content/uploads/2025/12/Screenshot-2025-12-10-at-14-15-43-Instagram-•-Mensajes.avif
END:VEVENT
END:VCALENDAR