BEGIN:VCALENDAR
VERSION:2.0
PRODID:-//Calendario de Eventos Gran Canaria - ECPv6.15.17.1//NONSGML v1.0//EN
CALSCALE:GREGORIAN
METHOD:PUBLISH
X-WR-CALNAME:Calendario de Eventos Gran Canaria
X-ORIGINAL-URL:https://calendarioeventos.com/en
X-WR-CALDESC:Events for Calendario de Eventos Gran Canaria
REFRESH-INTERVAL;VALUE=DURATION:PT1H
X-Robots-Tag:noindex
X-PUBLISHED-TTL:PT1H
BEGIN:VTIMEZONE
TZID:Europe/London
BEGIN:DAYLIGHT
TZOFFSETFROM:+0000
TZOFFSETTO:+0100
TZNAME:BST
DTSTART:20250330T010000
END:DAYLIGHT
BEGIN:STANDARD
TZOFFSETFROM:+0100
TZOFFSETTO:+0000
TZNAME:GMT
DTSTART:20251026T010000
END:STANDARD
BEGIN:DAYLIGHT
TZOFFSETFROM:+0000
TZOFFSETTO:+0100
TZNAME:BST
DTSTART:20260329T010000
END:DAYLIGHT
BEGIN:STANDARD
TZOFFSETFROM:+0100
TZOFFSETTO:+0000
TZNAME:GMT
DTSTART:20261025T010000
END:STANDARD
BEGIN:DAYLIGHT
TZOFFSETFROM:+0000
TZOFFSETTO:+0100
TZNAME:BST
DTSTART:20270328T010000
END:DAYLIGHT
BEGIN:STANDARD
TZOFFSETFROM:+0100
TZOFFSETTO:+0000
TZNAME:GMT
DTSTART:20271031T010000
END:STANDARD
END:VTIMEZONE
BEGIN:VEVENT
DTSTART;TZID=Europe/London:20260117T150000
DTEND;TZID=Europe/London:20260117T223000
DTSTAMP:20260421T055209
CREATED:20260104T000309Z
LAST-MODIFIED:20260104T000309Z
UID:49524-1768662000-1768689000@calendarioeventos.com
SUMMARY:Festival - Biosansebastiando
DESCRIPTION:Festival «Biosansebastiando» en la Plaza de San Sebastián\, Agaete\, Gran Canaria. \n\n15h – Los Juaquin (pop\, rock).\n17h – Enkassette (fiesta fusión).\n19h – Los Iglús (jazz rock).\n21h – Brian Perdomo y la Tamaduba (Reggae).
URL:https://calendarioeventos.com/en/evento/festival-biosansebastiando/
LOCATION:Plaza de San Sebastián\, 35480 Agaete\, Las Palmas
CATEGORIES:Agaete,Cultura,Eventos gratuitos,Festival,Fiestas Populares
ATTACH;FMTTYPE=image/jpeg:https://calendarioeventos.com/wp-content/uploads/2026/01/Sin-titulo-1.avif
END:VEVENT
END:VCALENDAR