BEGIN:VCALENDAR
VERSION:2.0
PRODID:-//Calendario de Eventos Gran Canaria - ECPv6.15.17.1//NONSGML v1.0//EN
CALSCALE:GREGORIAN
METHOD:PUBLISH
X-WR-CALNAME:Calendario de Eventos Gran Canaria
X-ORIGINAL-URL:https://calendarioeventos.com/en
X-WR-CALDESC:Events for Calendario de Eventos Gran Canaria
REFRESH-INTERVAL;VALUE=DURATION:PT1H
X-Robots-Tag:noindex
X-PUBLISHED-TTL:PT1H
BEGIN:VTIMEZONE
TZID:Europe/London
BEGIN:DAYLIGHT
TZOFFSETFROM:+0000
TZOFFSETTO:+0100
TZNAME:BST
DTSTART:20240331T010000
END:DAYLIGHT
BEGIN:STANDARD
TZOFFSETFROM:+0100
TZOFFSETTO:+0000
TZNAME:GMT
DTSTART:20241027T010000
END:STANDARD
BEGIN:DAYLIGHT
TZOFFSETFROM:+0000
TZOFFSETTO:+0100
TZNAME:BST
DTSTART:20250330T010000
END:DAYLIGHT
BEGIN:STANDARD
TZOFFSETFROM:+0100
TZOFFSETTO:+0000
TZNAME:GMT
DTSTART:20251026T010000
END:STANDARD
BEGIN:DAYLIGHT
TZOFFSETFROM:+0000
TZOFFSETTO:+0100
TZNAME:BST
DTSTART:20260329T010000
END:DAYLIGHT
BEGIN:STANDARD
TZOFFSETFROM:+0100
TZOFFSETTO:+0000
TZNAME:GMT
DTSTART:20261025T010000
END:STANDARD
END:VTIMEZONE
BEGIN:VEVENT
DTSTART;TZID=Europe/London:20251115T200000
DTEND;TZID=Europe/London:20251115T220000
DTSTAMP:20260423T093938
CREATED:20251103T170619Z
LAST-MODIFIED:20251103T170619Z
UID:28947-1763236800-1763244000@calendarioeventos.com
SUMMARY:Festival Folclórico Cendro
DESCRIPTION:XIV Festival Folclórico Cendro en la Plaza de San Gregorio\, Telde\, Gran Canaria. \nEl próximo 15 de noviembre\, a las 20:00 horas\, la Plaza de San Gregorio (Telde) acogerá una nueva edición del Festival Folclórico CENDRO\, que este año celebra su XIV edición. \nUn encuentro para celebrar nuestra cultura y las tradiciones\, con la participación de:\n– A.F. Farallón de Tábata\n– A.C. Parranda La Sebada (Fuerteventura)\n– A.F.C. Cuerpo de baile Erasmo Hernández\n– A.F. Cendro\n– A.C. El Salitre del Faycán \n🎤 Presenta: Salvador Santana del Valle
URL:https://calendarioeventos.com/en/evento/festival-folclorico-cendro/
LOCATION:Pl. de San Gregorio\, 35200 Telde\, Las Palmas
CATEGORIES:Cultura,Eventos gratuitos,Festival,Música,Telde
ATTACH;FMTTYPE=image/png:https://calendarioeventos.com/wp-content/uploads/2025/11/Screenshot-2025-11-03-at-17-04-46-Instagram.avif
END:VEVENT
END:VCALENDAR