BEGIN:VCALENDAR
VERSION:2.0
PRODID:-//Calendario de Eventos Gran Canaria - ECPv6.15.17.1//NONSGML v1.0//EN
CALSCALE:GREGORIAN
METHOD:PUBLISH
X-WR-CALNAME:Calendario de Eventos Gran Canaria
X-ORIGINAL-URL:https://calendarioeventos.com/en
X-WR-CALDESC:Events for Calendario de Eventos Gran Canaria
REFRESH-INTERVAL;VALUE=DURATION:PT1H
X-Robots-Tag:noindex
X-PUBLISHED-TTL:PT1H
BEGIN:VTIMEZONE
TZID:Europe/London
BEGIN:DAYLIGHT
TZOFFSETFROM:+0000
TZOFFSETTO:+0100
TZNAME:BST
DTSTART:20240331T010000
END:DAYLIGHT
BEGIN:STANDARD
TZOFFSETFROM:+0100
TZOFFSETTO:+0000
TZNAME:GMT
DTSTART:20241027T010000
END:STANDARD
BEGIN:DAYLIGHT
TZOFFSETFROM:+0000
TZOFFSETTO:+0100
TZNAME:BST
DTSTART:20250330T010000
END:DAYLIGHT
BEGIN:STANDARD
TZOFFSETFROM:+0100
TZOFFSETTO:+0000
TZNAME:GMT
DTSTART:20251026T010000
END:STANDARD
BEGIN:DAYLIGHT
TZOFFSETFROM:+0000
TZOFFSETTO:+0100
TZNAME:BST
DTSTART:20260329T010000
END:DAYLIGHT
BEGIN:STANDARD
TZOFFSETFROM:+0100
TZOFFSETTO:+0000
TZNAME:GMT
DTSTART:20261025T010000
END:STANDARD
END:VTIMEZONE
BEGIN:VEVENT
DTSTART;TZID=Europe/London:20251207T200000
DTEND;TZID=Europe/London:20251207T213000
DTSTAMP:20260425T124446
CREATED:20251130T180941Z
LAST-MODIFIED:20251130T180941Z
UID:38899-1765137600-1765143000@calendarioeventos.com
SUMMARY:Festival Folclórico Voz & Raíz
DESCRIPTION:Festival Folclórico «Voz & Raíz» de Ábora y Susurros Isleños en Playa del Hombre\, Telde\, Gran Canaria. \n\nEl barrio costero de Playa del Hombre se prepara para celebrar una de las noches más especiales de sus fiestas de Santa Lucía con la llegada del festival folclórico ‘Voz y Raíz’. La cita será el domingo 7 de diciembre\, a las 20:00 horas\, en la plaza pública. \nEl espectáculo propone un viaje por diferentes etapas del folclore canario\, con un repertorio que combina voces solistas\, arreglos musicales contemporáneos y piezas tradicionales. La agrupación musical Ábora y la asociación folclórica Susurros Isleños serán los encargados de liderar la propuesta artística. \nGrupos invitados\nA la velada se sumarán el Grupo Folclórico Los Cebolleros de Gáldar y la Agrupación Folclórica Tamaima\, dos formaciones que aportarán al festival su estilo propio\, reforzando el carácter plural y representativo de la tradición insular. \nEl festival forma parte del programa de actos en honor a Santa Lucía\, patrona de Playa del Hombre. La organización destaca la importancia de mantener vivas las expresiones culturales que identifican a la comunidad y que sirven como punto de encuentro intergeneracional. \nConvocatoria abierta\nVecinos y visitantes están invitados a participar en esta noche que promete convertirse en un referente dentro de las celebraciones del barrio. La música\, la identidad y el espíritu festivo serán protagonistas de una jornada que une talento y memoria popular en un escenario junto al mar.
URL:https://calendarioeventos.com/en/evento/festival-folclorico-voz-raiz/
LOCATION:Playa del Hombre\, 35214 Las Palmas
CATEGORIES:Cultura,Eventos gratuitos,Festival,Telde
ATTACH;FMTTYPE=image/png:https://calendarioeventos.com/wp-content/uploads/2025/11/Screenshot-2025-11-30-at-18-07-01-Instagram.avif
END:VEVENT
END:VCALENDAR