BEGIN:VCALENDAR
VERSION:2.0
PRODID:-//Calendario de Eventos Gran Canaria - ECPv6.15.17.1//NONSGML v1.0//EN
CALSCALE:GREGORIAN
METHOD:PUBLISH
X-WR-CALNAME:Calendario de Eventos Gran Canaria
X-ORIGINAL-URL:https://calendarioeventos.com/en
X-WR-CALDESC:Events for Calendario de Eventos Gran Canaria
REFRESH-INTERVAL;VALUE=DURATION:PT1H
X-Robots-Tag:noindex
X-PUBLISHED-TTL:PT1H
BEGIN:VTIMEZONE
TZID:Europe/London
BEGIN:DAYLIGHT
TZOFFSETFROM:+0000
TZOFFSETTO:+0100
TZNAME:BST
DTSTART:20240331T010000
END:DAYLIGHT
BEGIN:STANDARD
TZOFFSETFROM:+0100
TZOFFSETTO:+0000
TZNAME:GMT
DTSTART:20241027T010000
END:STANDARD
BEGIN:DAYLIGHT
TZOFFSETFROM:+0000
TZOFFSETTO:+0100
TZNAME:BST
DTSTART:20250330T010000
END:DAYLIGHT
BEGIN:STANDARD
TZOFFSETFROM:+0100
TZOFFSETTO:+0000
TZNAME:GMT
DTSTART:20251026T010000
END:STANDARD
BEGIN:DAYLIGHT
TZOFFSETFROM:+0000
TZOFFSETTO:+0100
TZNAME:BST
DTSTART:20260329T010000
END:DAYLIGHT
BEGIN:STANDARD
TZOFFSETFROM:+0100
TZOFFSETTO:+0000
TZNAME:GMT
DTSTART:20261025T010000
END:STANDARD
END:VTIMEZONE
BEGIN:VEVENT
DTSTART;TZID=Europe/London:20251212T213000
DTEND;TZID=Europe/London:20251212T233000
DTSTAMP:20260424T194714
CREATED:20251203T092931Z
LAST-MODIFIED:20251203T092931Z
UID:39866-1765575000-1765582200@calendarioeventos.com
SUMMARY:Festival - Tamaran Rock Gran Final
DESCRIPTION:Festival «Tamaran Rock»\, Gran Final de la Batalla de Bandas en la Sala Canarias en Vivo\, Las Palmas de Gran Canaria. \nCuatro bandas. Una noche. Un escenario encendido en Canarias en Vivo. \nBatalla de Bandas Gran Final  – Canarias en Vivo \nPrepárate para una velada donde la música se convierte en pulso\, territorio y desafío. \nCuatro bandas de la isla subirán al escenario para defender lo que son: su historia\, su sonido y ese fuego que solo nace cuando se toca en vivo. \nTú solo trae tus oídos y tus ganas… lo demás lo pone la energía de cada grupo. \nEntradas en este enlace. \n\n🔥 MALDITA CALIMA\n\nRock con raíces profundas\n\n\n🎵 SIMULTÁNEA\n\nUn grupo que nació de la amistad antes que de la ambición.\n\n\n\n\n🎸 MAMONES\n\nUna banda sin filtros\, sin adornos y sin miedo a rien nada.\n\n\n🎸 PARAMALES\n\nNacida en 2020\, en plena pandemia\, Paramales es una banda de pop rock de estética vintage\, inspirada en nombres como Tom Petty o The Beatles.\n\n\n\n 
URL:https://calendarioeventos.com/en/evento/festival-tamaran-rock-gran-final/
LOCATION:Canarias en Vivo\, C. Matagalpa\, 1\, Bajo\, 35010 Las Palmas de Gran Canaria\, Las Palmas
CATEGORIES:Cultura,Festival,Las Palmas de GC,Música,Municipio
ATTACH;FMTTYPE=image/webp:https://calendarioeventos.com/wp-content/uploads/2025/12/860e1bdf-bd67-4092-8e33-4e21fa59ca0e.avif
END:VEVENT
END:VCALENDAR