BEGIN:VCALENDAR
VERSION:2.0
PRODID:-//Calendario de Eventos Gran Canaria - ECPv6.15.17.1//NONSGML v1.0//EN
CALSCALE:GREGORIAN
METHOD:PUBLISH
X-WR-CALNAME:Calendario de Eventos Gran Canaria
X-ORIGINAL-URL:https://calendarioeventos.com/en
X-WR-CALDESC:Events for Calendario de Eventos Gran Canaria
REFRESH-INTERVAL;VALUE=DURATION:PT1H
X-Robots-Tag:noindex
X-PUBLISHED-TTL:PT1H
BEGIN:VTIMEZONE
TZID:Europe/London
BEGIN:DAYLIGHT
TZOFFSETFROM:+0000
TZOFFSETTO:+0100
TZNAME:BST
DTSTART:20250330T010000
END:DAYLIGHT
BEGIN:STANDARD
TZOFFSETFROM:+0100
TZOFFSETTO:+0000
TZNAME:GMT
DTSTART:20251026T010000
END:STANDARD
BEGIN:DAYLIGHT
TZOFFSETFROM:+0000
TZOFFSETTO:+0100
TZNAME:BST
DTSTART:20260329T010000
END:DAYLIGHT
BEGIN:STANDARD
TZOFFSETFROM:+0100
TZOFFSETTO:+0000
TZNAME:GMT
DTSTART:20261025T010000
END:STANDARD
BEGIN:DAYLIGHT
TZOFFSETFROM:+0000
TZOFFSETTO:+0100
TZNAME:BST
DTSTART:20270328T010000
END:DAYLIGHT
BEGIN:STANDARD
TZOFFSETFROM:+0100
TZOFFSETTO:+0000
TZNAME:GMT
DTSTART:20271031T010000
END:STANDARD
END:VTIMEZONE
BEGIN:VEVENT
DTSTART;TZID=Europe/London:20260117T120000
DTEND;TZID=Europe/London:20260117T220000
DTSTAMP:20260421T021815
CREATED:20251223T182600Z
LAST-MODIFIED:20251223T182600Z
UID:46924-1768651200-1768687200@calendarioeventos.com
SUMMARY:Festival - Vinopop
DESCRIPTION:Festival Vinopop\, donde la vida se degusta» en Infecar\, Las Palmas de Gran Canaria. \n\n\nLa celebración donde el vino y el POP despiertan tus cinco sentidos. Un hermanamiento de las bogegas y los vinos con Denominación de origen de Gran Canaria con las bodegas Emilio Moro y Menade. \nLos mejores vinos maridados con la mejor gastronomía\, tiendas \, exposiciones\, terrazas \, conciertos… \nUna experiencia donde la vida se degusta. Los mejores vinos\, una cuidada selección de quesos\, gastronomía y repostería autóctona de Gran Canaria\, tiendas\, exposiciones\, terrazas\, actuaciones… \n🎤 La Guardia\, La Frontera\, Javier Ojeda (Danza Invisible) y dos grandes tributos a Estopa y Sabina. \n🍇 Una experiencia para quienes disfrutan del buen vino\, la buena música y momentos extraordinario \n\n\nEntradas en este enlace. \n  \n  \n 
URL:https://calendarioeventos.com/en/evento/festival-vinopop/
LOCATION:Infecar\, Av. de la Feria\, 1\, 35012 Las Palmas de Gran Canaria\, Las Palmas
CATEGORIES:Cultura,Festival,Gastronomía,Las Palmas de GC,Música,Municipio
ATTACH;FMTTYPE=image/png:https://calendarioeventos.com/wp-content/uploads/2025/12/Screenshot-2025-12-23-at-18-22-07-Instagram.avif
END:VEVENT
END:VCALENDAR