BEGIN:VCALENDAR
VERSION:2.0
PRODID:-//Calendario de Eventos Gran Canaria - ECPv6.15.17.1//NONSGML v1.0//EN
CALSCALE:GREGORIAN
METHOD:PUBLISH
X-WR-CALNAME:Calendario de Eventos Gran Canaria
X-ORIGINAL-URL:https://calendarioeventos.com/en
X-WR-CALDESC:Events for Calendario de Eventos Gran Canaria
REFRESH-INTERVAL;VALUE=DURATION:PT1H
X-Robots-Tag:noindex
X-PUBLISHED-TTL:PT1H
BEGIN:VTIMEZONE
TZID:Europe/London
BEGIN:DAYLIGHT
TZOFFSETFROM:+0000
TZOFFSETTO:+0100
TZNAME:BST
DTSTART:20250330T010000
END:DAYLIGHT
BEGIN:STANDARD
TZOFFSETFROM:+0100
TZOFFSETTO:+0000
TZNAME:GMT
DTSTART:20251026T010000
END:STANDARD
BEGIN:DAYLIGHT
TZOFFSETFROM:+0000
TZOFFSETTO:+0100
TZNAME:BST
DTSTART:20260329T010000
END:DAYLIGHT
BEGIN:STANDARD
TZOFFSETFROM:+0100
TZOFFSETTO:+0000
TZNAME:GMT
DTSTART:20261025T010000
END:STANDARD
BEGIN:DAYLIGHT
TZOFFSETFROM:+0000
TZOFFSETTO:+0100
TZNAME:BST
DTSTART:20270328T010000
END:DAYLIGHT
BEGIN:STANDARD
TZOFFSETFROM:+0100
TZOFFSETTO:+0000
TZNAME:GMT
DTSTART:20271031T010000
END:STANDARD
END:VTIMEZONE
BEGIN:VEVENT
DTSTART;TZID=Europe/London:20260124T230000
DTEND;TZID=Europe/London:20260125T040000
DTSTAMP:20260421T141344
CREATED:20260122T211816Z
LAST-MODIFIED:20260122T211816Z
UID:52916-1769295600-1769313600@calendarioeventos.com
SUMMARY:Fiesta - After Exams
DESCRIPTION:Fiesta «After Exams» en la Discoteca Cirius \, Gáldar\, Gran Canaria. \nDESPUÉS DE LOS EXÁMENES… TOCA QUEMAR LOS APUNTES 🔥📚Porque ya sufriste bastante Ahora es momento de celebrar como se merece…📚🎛🚀 \nEste sábado 24 de enero AFTER EXAMS 💥\nDesde las 23:00 hasta las 06:00\, dos salas\, música sin parar y una noche hecha para soltarlo todo.🎛🎶 \n🎧 Sala The Room\nIVA DIVE · ACAYMO EM · ANDRO 2B \n🎧 Sala Principal\nDJ VHITO · FRAN GRIMON · AITHAMY DJ \n🎟️ Entradas en puerta:\n👨‍🎓 Universitarios: 5€ con consumición\n🚫 No universitarios: 10€ con consumición \n  \n 
URL:https://calendarioeventos.com/en/evento/fiesta-after-exams/
LOCATION:Discoteca Cirius\, Ctra. General\, 53\, 35460 Gáldar\, Las Palmas
CATEGORIES:Entretenimiento,Fiesta,Gáldar,Música
ATTACH;FMTTYPE=image/png:https://calendarioeventos.com/wp-content/uploads/2026/01/Screenshot-2026-01-22-at-21-16-36-Instagram.avif
END:VEVENT
END:VCALENDAR