BEGIN:VCALENDAR
VERSION:2.0
PRODID:-//Calendario de Eventos Gran Canaria - ECPv6.15.17.1//NONSGML v1.0//EN
CALSCALE:GREGORIAN
METHOD:PUBLISH
X-WR-CALNAME:Calendario de Eventos Gran Canaria
X-ORIGINAL-URL:https://calendarioeventos.com/en
X-WR-CALDESC:Events for Calendario de Eventos Gran Canaria
REFRESH-INTERVAL;VALUE=DURATION:PT1H
X-Robots-Tag:noindex
X-PUBLISHED-TTL:PT1H
BEGIN:VTIMEZONE
TZID:Europe/London
BEGIN:DAYLIGHT
TZOFFSETFROM:+0000
TZOFFSETTO:+0100
TZNAME:BST
DTSTART:20250330T010000
END:DAYLIGHT
BEGIN:STANDARD
TZOFFSETFROM:+0100
TZOFFSETTO:+0000
TZNAME:GMT
DTSTART:20251026T010000
END:STANDARD
BEGIN:DAYLIGHT
TZOFFSETFROM:+0000
TZOFFSETTO:+0100
TZNAME:BST
DTSTART:20260329T010000
END:DAYLIGHT
BEGIN:STANDARD
TZOFFSETFROM:+0100
TZOFFSETTO:+0000
TZNAME:GMT
DTSTART:20261025T010000
END:STANDARD
BEGIN:DAYLIGHT
TZOFFSETFROM:+0000
TZOFFSETTO:+0100
TZNAME:BST
DTSTART:20270328T010000
END:DAYLIGHT
BEGIN:STANDARD
TZOFFSETFROM:+0100
TZOFFSETTO:+0000
TZNAME:GMT
DTSTART:20271031T010000
END:STANDARD
END:VTIMEZONE
BEGIN:VEVENT
DTSTART;TZID=Europe/London:20260228T233000
DTEND;TZID=Europe/London:20260301T040000
DTSTAMP:20260421T022128
CREATED:20260217T100958Z
LAST-MODIFIED:20260217T100958Z
UID:59686-1772321400-1772337600@calendarioeventos.com
SUMMARY:Fiesta - After Party Cabalgata - Chester
DESCRIPTION:Fiesta – After Party Gran Cabalgata en Chester Las Palmas\, Las Palmas de Gran Canaria. \nPreventa entradas en este enlace.
URL:https://calendarioeventos.com/en/evento/fiesta-after-party-cabalgata-chester/
LOCATION:Chester Las Palmas\, C. Simón Bolívar\, 3\, 35007 Las Palmas de Gran Canaria\, Las Palmas
CATEGORIES:Entretenimiento,Fiesta,Las Palmas de GC,Música
END:VEVENT
END:VCALENDAR