BEGIN:VCALENDAR
VERSION:2.0
PRODID:-//Calendario de Eventos Gran Canaria - ECPv6.15.17.1//NONSGML v1.0//EN
CALSCALE:GREGORIAN
METHOD:PUBLISH
X-WR-CALNAME:Calendario de Eventos Gran Canaria
X-ORIGINAL-URL:https://calendarioeventos.com/en
X-WR-CALDESC:Events for Calendario de Eventos Gran Canaria
REFRESH-INTERVAL;VALUE=DURATION:PT1H
X-Robots-Tag:noindex
X-PUBLISHED-TTL:PT1H
BEGIN:VTIMEZONE
TZID:Europe/London
BEGIN:DAYLIGHT
TZOFFSETFROM:+0000
TZOFFSETTO:+0100
TZNAME:BST
DTSTART:20250330T010000
END:DAYLIGHT
BEGIN:STANDARD
TZOFFSETFROM:+0100
TZOFFSETTO:+0000
TZNAME:GMT
DTSTART:20251026T010000
END:STANDARD
BEGIN:DAYLIGHT
TZOFFSETFROM:+0000
TZOFFSETTO:+0100
TZNAME:BST
DTSTART:20260329T010000
END:DAYLIGHT
BEGIN:STANDARD
TZOFFSETFROM:+0100
TZOFFSETTO:+0000
TZNAME:GMT
DTSTART:20261025T010000
END:STANDARD
BEGIN:DAYLIGHT
TZOFFSETFROM:+0000
TZOFFSETTO:+0100
TZNAME:BST
DTSTART:20270328T010000
END:DAYLIGHT
BEGIN:STANDARD
TZOFFSETFROM:+0100
TZOFFSETTO:+0000
TZNAME:GMT
DTSTART:20271031T010000
END:STANDARD
END:VTIMEZONE
BEGIN:VEVENT
DTSTART;TZID=Europe/London:20260306T190000
DTEND;TZID=Europe/London:20260306T220000
DTSTAMP:20260423T172625
CREATED:20260304T202520Z
LAST-MODIFIED:20260304T202520Z
UID:64432-1772823600-1772834400@calendarioeventos.com
SUMMARY:Fiesta - After Work con David Jaio
DESCRIPTION:Fiesta – After Work con David Jaio Dj en Bien de Amores\, Las Palmas de Gran Canaria. \nAFTERWORK BDA x BARREO \n🗓 06 marzo\n🕖 Desde las 19:00\n🎧 DJ Set by David Jaio \nBuena música\, cócteles y el plan perfecto para empezar el finde. \nNos vemos en Perojo\, 2
URL:https://calendarioeventos.com/en/evento/fiesta-after-work-con-david-jaio/
LOCATION:Bien de Amores\, C. Perojo\, 2\, 35003 Las Palmas de Gran Canaria\, Las Palmas
CATEGORIES:Actividades,Cultura,Gastronomía,Las Palmas de GC,Música,Municipio
ATTACH;FMTTYPE=image/png:https://calendarioeventos.com/wp-content/uploads/2026/03/Screenshot-2026-03-04-at-20-23-26-Instagram.avif
END:VEVENT
END:VCALENDAR