BEGIN:VCALENDAR
VERSION:2.0
PRODID:-//Calendario de Eventos Gran Canaria - ECPv6.15.17.1//NONSGML v1.0//EN
CALSCALE:GREGORIAN
METHOD:PUBLISH
X-WR-CALNAME:Calendario de Eventos Gran Canaria
X-ORIGINAL-URL:https://calendarioeventos.com/en
X-WR-CALDESC:Events for Calendario de Eventos Gran Canaria
REFRESH-INTERVAL;VALUE=DURATION:PT1H
X-Robots-Tag:noindex
X-PUBLISHED-TTL:PT1H
BEGIN:VTIMEZONE
TZID:Europe/London
BEGIN:DAYLIGHT
TZOFFSETFROM:+0000
TZOFFSETTO:+0100
TZNAME:BST
DTSTART:20240331T010000
END:DAYLIGHT
BEGIN:STANDARD
TZOFFSETFROM:+0100
TZOFFSETTO:+0000
TZNAME:GMT
DTSTART:20241027T010000
END:STANDARD
BEGIN:DAYLIGHT
TZOFFSETFROM:+0000
TZOFFSETTO:+0100
TZNAME:BST
DTSTART:20250330T010000
END:DAYLIGHT
BEGIN:STANDARD
TZOFFSETFROM:+0100
TZOFFSETTO:+0000
TZNAME:GMT
DTSTART:20251026T010000
END:STANDARD
BEGIN:DAYLIGHT
TZOFFSETFROM:+0000
TZOFFSETTO:+0100
TZNAME:BST
DTSTART:20260329T010000
END:DAYLIGHT
BEGIN:STANDARD
TZOFFSETFROM:+0100
TZOFFSETTO:+0000
TZNAME:GMT
DTSTART:20261025T010000
END:STANDARD
END:VTIMEZONE
BEGIN:VEVENT
DTSTART;TZID=Europe/London:20251206T140000
DTEND;TZID=Europe/London:20251207T010000
DTSTAMP:20260424T050923
CREATED:20251127T141824Z
LAST-MODIFIED:20251127T141824Z
UID:37917-1765029600-1765069200@calendarioeventos.com
SUMMARY:Fiesta - Better with music
DESCRIPTION:Fiesta «Better with music» en Soledad Big Waves\, El Pagador\, Moya\, Gran Canaria. \nSegundo trip y último del año. \n🗓 06/12 Puentito de la constitución\, y con el arrancará Diciembre y tu almuerzito de empresa\, tus reuniones con amig@s\, familiares y esa gente que aprecias. \nDesde Betterwithmusic no queríamos dejar pasar la fecha para darte un lugar\, ambiente y excusa para celebrar el comienzo de un mes tan especial. \nEvento con aforo limitado y por lista. \nTu ticket incluirá; \n🎟 ACCESO al evento. \n🥘 COMIDA contaremos con 2/3 platos variados 👌🏽 \n🍻 2 CAÑAS para que bajes el papeo 🤤 \n🎁 Y alguna sorpresita más durante el evento \nPara conseguir tu invitación podrás hacerlo de manera física en: \n📍 @barberiaborjatejera (C. Jesús Ferrer Jimeno\, 8\, 35010 Las Palmas de Gran Canaria\, Las Palmas) \nO a través de los siguientes números de contacto: \n☎️  619 368 431 / 677 288 891. \n💡 Recordarte que el evento es por lista y con AFORO LIMITADO.
URL:https://calendarioeventos.com/en/evento/fiesta-better-with-music-2/
LOCATION:Soledad Big Waves\, Ctra. la Costa\, 52\, 35413 El Pagador\, Las Palmas
CATEGORIES:Entretenimiento,Fiesta,Gastronomía,Música,Moya,Solo adultos
ATTACH;FMTTYPE=image/png:https://calendarioeventos.com/wp-content/uploads/2025/11/Screenshot-2025-11-27-at-14-15-44-Instagram.avif
END:VEVENT
END:VCALENDAR