BEGIN:VCALENDAR
VERSION:2.0
PRODID:-//Calendario de Eventos Gran Canaria - ECPv6.15.17.1//NONSGML v1.0//EN
CALSCALE:GREGORIAN
METHOD:PUBLISH
X-WR-CALNAME:Calendario de Eventos Gran Canaria
X-ORIGINAL-URL:https://calendarioeventos.com/en
X-WR-CALDESC:Events for Calendario de Eventos Gran Canaria
REFRESH-INTERVAL;VALUE=DURATION:PT1H
X-Robots-Tag:noindex
X-PUBLISHED-TTL:PT1H
BEGIN:VTIMEZONE
TZID:Europe/London
BEGIN:DAYLIGHT
TZOFFSETFROM:+0000
TZOFFSETTO:+0100
TZNAME:BST
DTSTART:20250330T010000
END:DAYLIGHT
BEGIN:STANDARD
TZOFFSETFROM:+0100
TZOFFSETTO:+0000
TZNAME:GMT
DTSTART:20251026T010000
END:STANDARD
BEGIN:DAYLIGHT
TZOFFSETFROM:+0000
TZOFFSETTO:+0100
TZNAME:BST
DTSTART:20260329T010000
END:DAYLIGHT
BEGIN:STANDARD
TZOFFSETFROM:+0100
TZOFFSETTO:+0000
TZNAME:GMT
DTSTART:20261025T010000
END:STANDARD
BEGIN:DAYLIGHT
TZOFFSETFROM:+0000
TZOFFSETTO:+0100
TZNAME:BST
DTSTART:20270328T010000
END:DAYLIGHT
BEGIN:STANDARD
TZOFFSETFROM:+0100
TZOFFSETTO:+0000
TZNAME:GMT
DTSTART:20271031T010000
END:STANDARD
END:VTIMEZONE
BEGIN:VEVENT
DTSTART;TZID=Europe/London:20260313T230000
DTEND;TZID=Europe/London:20260314T003000
DTSTAMP:20260420T203551
CREATED:20260301T173700Z
LAST-MODIFIED:20260301T173730Z
UID:63460-1773442800-1773448200@calendarioeventos.com
SUMMARY:Fiesta — «Bloom Night»
DESCRIPTION:Fiesta — «Bloom Night» en MR VAHO\, Arucas\, Gran Canaria. \nLos viernes son para gente con ganas de más\, más música\, más finde\, más diversión. Las mejores noches de los viernes tienen casa en MR VAHO. Ven a disfrutar de la mejor atmósfera nocturna con MR VAHO en una noche diseñada para el baile y la diversión sin límites para empezar el fin de semana con energía.  \nEntradas en este enlace
URL:https://calendarioeventos.com/en/evento/fiesta-bloom-night/
LOCATION:Mr. Vaho Club & Lounge
CATEGORIES:Arucas,Entretenimiento,Fiesta,Música
ATTACH;FMTTYPE=image/jpeg:https://calendarioeventos.com/wp-content/uploads/2026/03/708_f2-UhF7IP.avif
END:VEVENT
END:VCALENDAR