BEGIN:VCALENDAR
VERSION:2.0
PRODID:-//Calendario de Eventos Gran Canaria - ECPv6.15.17.1//NONSGML v1.0//EN
CALSCALE:GREGORIAN
METHOD:PUBLISH
X-WR-CALNAME:Calendario de Eventos Gran Canaria
X-ORIGINAL-URL:https://calendarioeventos.com/en
X-WR-CALDESC:Events for Calendario de Eventos Gran Canaria
REFRESH-INTERVAL;VALUE=DURATION:PT1H
X-Robots-Tag:noindex
X-PUBLISHED-TTL:PT1H
BEGIN:VTIMEZONE
TZID:Europe/London
BEGIN:DAYLIGHT
TZOFFSETFROM:+0000
TZOFFSETTO:+0100
TZNAME:BST
DTSTART:20240331T010000
END:DAYLIGHT
BEGIN:STANDARD
TZOFFSETFROM:+0100
TZOFFSETTO:+0000
TZNAME:GMT
DTSTART:20241027T010000
END:STANDARD
BEGIN:DAYLIGHT
TZOFFSETFROM:+0000
TZOFFSETTO:+0100
TZNAME:BST
DTSTART:20250330T010000
END:DAYLIGHT
BEGIN:STANDARD
TZOFFSETFROM:+0100
TZOFFSETTO:+0000
TZNAME:GMT
DTSTART:20251026T010000
END:STANDARD
BEGIN:DAYLIGHT
TZOFFSETFROM:+0000
TZOFFSETTO:+0100
TZNAME:BST
DTSTART:20260329T010000
END:DAYLIGHT
BEGIN:STANDARD
TZOFFSETFROM:+0100
TZOFFSETTO:+0000
TZNAME:GMT
DTSTART:20261025T010000
END:STANDARD
END:VTIMEZONE
BEGIN:VEVENT
DTSTART;TZID=Europe/London:20251219T230000
DTEND;TZID=Europe/London:20251220T030000
DTSTAMP:20260425T154632
CREATED:20251210T100141Z
LAST-MODIFIED:20251210T100141Z
UID:42403-1766185200-1766199600@calendarioeventos.com
SUMMARY:Fiesta - Bosque Encantado
DESCRIPTION:Fiesta «Bosque Encantado» en la Sala Alboroto de Las Palmas de Gran Canaria. \nEntradas en este enlace.
URL:https://calendarioeventos.com/en/evento/fiesta-bosque-encantado/
LOCATION:Sala Alboroto\, C. Remedios\, 10\, 35002 Las Palmas de Gran Canaria\, Las Palmas
CATEGORIES:Entretenimiento,Fiesta,Las Palmas de GC,Música
ATTACH;FMTTYPE=image/jpeg:https://calendarioeventos.com/wp-content/uploads/2025/12/24736-1ho8oe6nbflptgbprnl7k84n9nqhlqq2ba4p5acd4otpavccgoieu76778i2.avif
END:VEVENT
END:VCALENDAR