BEGIN:VCALENDAR
VERSION:2.0
PRODID:-//Calendario de Eventos Gran Canaria - ECPv6.15.17.1//NONSGML v1.0//EN
CALSCALE:GREGORIAN
METHOD:PUBLISH
X-WR-CALNAME:Calendario de Eventos Gran Canaria
X-ORIGINAL-URL:https://calendarioeventos.com/en
X-WR-CALDESC:Events for Calendario de Eventos Gran Canaria
REFRESH-INTERVAL;VALUE=DURATION:PT1H
X-Robots-Tag:noindex
X-PUBLISHED-TTL:PT1H
BEGIN:VTIMEZONE
TZID:Europe/London
BEGIN:DAYLIGHT
TZOFFSETFROM:+0000
TZOFFSETTO:+0100
TZNAME:BST
DTSTART:20250330T010000
END:DAYLIGHT
BEGIN:STANDARD
TZOFFSETFROM:+0100
TZOFFSETTO:+0000
TZNAME:GMT
DTSTART:20251026T010000
END:STANDARD
BEGIN:DAYLIGHT
TZOFFSETFROM:+0000
TZOFFSETTO:+0100
TZNAME:BST
DTSTART:20260329T010000
END:DAYLIGHT
BEGIN:STANDARD
TZOFFSETFROM:+0100
TZOFFSETTO:+0000
TZNAME:GMT
DTSTART:20261025T010000
END:STANDARD
BEGIN:DAYLIGHT
TZOFFSETFROM:+0000
TZOFFSETTO:+0100
TZNAME:BST
DTSTART:20270328T010000
END:DAYLIGHT
BEGIN:STANDARD
TZOFFSETFROM:+0100
TZOFFSETTO:+0000
TZNAME:GMT
DTSTART:20271031T010000
END:STANDARD
END:VTIMEZONE
BEGIN:VEVENT
DTSTART;TZID=Europe/London:20260328T220000
DTEND;TZID=Europe/London:20260329T040000
DTSTAMP:20260425T045305
CREATED:20260225T231102Z
LAST-MODIFIED:20260319T220339Z
UID:62128-1774735200-1774756800@calendarioeventos.com
SUMMARY:Fiesta - «Burning Carnival de DOOM»
DESCRIPTION:Fiesta — «Burning Carnival de DOOM» en el Centro comercial Plaza Maspalomas\, San Bartolomé de Tirajana\, Gran Canaria. \nDOOM Burning Carnival 3D está de vuelta… y viene más fuerte que nunca. \nEste Carnaval prepárate para una experiencia única con 3 discotecas de música electrónica\, más de 14 DJs y un montaje pensado para que no pares de bailar en toda la noche. \nSi el año pasado te lo perdiste\, este es tu momento.\nY si estuviste… ya sabes que vas a repetir.\nEste año: más sonido\, más espectáculo y más DOOM. \n🎶💃 Vive el Carnaval a otro nivel\, siente el ritmo y déjate llevar por la locura. \nEl invitado en cabina será el DJ Yari Suárez\, en una sesión centrada en el sonido deep-tech y minimal underground. \nLas entradas están disponibles online en este enlace.
URL:https://calendarioeventos.com/en/evento/fiesta-burning-carnival-de-doom/
LOCATION:Centro comercial Plaza Maspalomas\, Av. de Italia\, 27\, 35100 San Bartolomé de Tirajana\, Las Palmas
CATEGORIES:Entretenimiento,Fiesta,Música,San Bartolomé de Tirajana
ATTACH;FMTTYPE=image/jpeg:https://calendarioeventos.com/wp-content/uploads/2026/02/fiesta-burning-carnival-de-doom-1772061060131.avif
END:VEVENT
END:VCALENDAR