BEGIN:VCALENDAR
VERSION:2.0
PRODID:-//Calendario de Eventos Gran Canaria - ECPv6.15.17.1//NONSGML v1.0//EN
CALSCALE:GREGORIAN
METHOD:PUBLISH
X-WR-CALNAME:Calendario de Eventos Gran Canaria
X-ORIGINAL-URL:https://calendarioeventos.com/en
X-WR-CALDESC:Events for Calendario de Eventos Gran Canaria
REFRESH-INTERVAL;VALUE=DURATION:PT1H
X-Robots-Tag:noindex
X-PUBLISHED-TTL:PT1H
BEGIN:VTIMEZONE
TZID:Europe/London
BEGIN:DAYLIGHT
TZOFFSETFROM:+0000
TZOFFSETTO:+0100
TZNAME:BST
DTSTART:20240331T010000
END:DAYLIGHT
BEGIN:STANDARD
TZOFFSETFROM:+0100
TZOFFSETTO:+0000
TZNAME:GMT
DTSTART:20241027T010000
END:STANDARD
BEGIN:DAYLIGHT
TZOFFSETFROM:+0000
TZOFFSETTO:+0100
TZNAME:BST
DTSTART:20250330T010000
END:DAYLIGHT
BEGIN:STANDARD
TZOFFSETFROM:+0100
TZOFFSETTO:+0000
TZNAME:GMT
DTSTART:20251026T010000
END:STANDARD
BEGIN:DAYLIGHT
TZOFFSETFROM:+0000
TZOFFSETTO:+0100
TZNAME:BST
DTSTART:20260329T010000
END:DAYLIGHT
BEGIN:STANDARD
TZOFFSETFROM:+0100
TZOFFSETTO:+0000
TZNAME:GMT
DTSTART:20261025T010000
END:STANDARD
END:VTIMEZONE
BEGIN:VEVENT
DTSTART;TZID=Europe/London:20251218T170000
DTEND;TZID=Europe/London:20251218T210000
DTSTAMP:20260419T185218
CREATED:20251217T174124Z
LAST-MODIFIED:20251217T174124Z
UID:44805-1766077200-1766091600@calendarioeventos.com
SUMMARY:Fiesta de Navidad Asociación Fuera de la Portada
DESCRIPTION:Fiesta de Navidad de la Asociación Fuera de la Portada en el Centro Cívico Suárez Naranjo\, Las Palmas de Gran Canaria. \n\n\n\n\n\n\n\nLa Asociación Fuera de la Portada te invita a su Fiesta de Navidad el día 18/12\, con distintas muestras y actuaciones de los talleres participantes.
URL:https://calendarioeventos.com/en/evento/fiesta-de-navidad-asociacion-fuera-de-la-portada/
LOCATION:Centro Cívico Suárez Naranjo\, C. Pamochamoso\, 34\, 35004 Las Palmas de Gran Canaria\, Las Palmas
CATEGORIES:Actividades,Arte,Danza,Eventos gratuitos,Las Palmas de GC,Literatura,Música,Teatro
ATTACH;FMTTYPE=image/jpeg:https://calendarioeventos.com/wp-content/uploads/2025/12/593540806_1265764152253421_6474680857283975480_n.avif
END:VEVENT
END:VCALENDAR