BEGIN:VCALENDAR
VERSION:2.0
PRODID:-//Calendario de Eventos Gran Canaria - ECPv6.15.17.1//NONSGML v1.0//EN
CALSCALE:GREGORIAN
METHOD:PUBLISH
X-WR-CALNAME:Calendario de Eventos Gran Canaria
X-ORIGINAL-URL:https://calendarioeventos.com/en
X-WR-CALDESC:Events for Calendario de Eventos Gran Canaria
REFRESH-INTERVAL;VALUE=DURATION:PT1H
X-Robots-Tag:noindex
X-PUBLISHED-TTL:PT1H
BEGIN:VTIMEZONE
TZID:Europe/London
BEGIN:DAYLIGHT
TZOFFSETFROM:+0000
TZOFFSETTO:+0100
TZNAME:BST
DTSTART:20250330T010000
END:DAYLIGHT
BEGIN:STANDARD
TZOFFSETFROM:+0100
TZOFFSETTO:+0000
TZNAME:GMT
DTSTART:20251026T010000
END:STANDARD
BEGIN:DAYLIGHT
TZOFFSETFROM:+0000
TZOFFSETTO:+0100
TZNAME:BST
DTSTART:20260329T010000
END:DAYLIGHT
BEGIN:STANDARD
TZOFFSETFROM:+0100
TZOFFSETTO:+0000
TZNAME:GMT
DTSTART:20261025T010000
END:STANDARD
BEGIN:DAYLIGHT
TZOFFSETFROM:+0000
TZOFFSETTO:+0100
TZNAME:BST
DTSTART:20270328T010000
END:DAYLIGHT
BEGIN:STANDARD
TZOFFSETFROM:+0100
TZOFFSETTO:+0000
TZNAME:GMT
DTSTART:20271031T010000
END:STANDARD
END:VTIMEZONE
BEGIN:VEVENT
DTSTART;TZID=Europe/London:20260124T210000
DTEND;TZID=Europe/London:20260124T233000
DTSTAMP:20260421T034139
CREATED:20251225T191221Z
LAST-MODIFIED:20251225T191221Z
UID:47373-1769288400-1769297400@calendarioeventos.com
SUMMARY:Fiesta - Fusión!!!
DESCRIPTION:Fiesta «Fusión!!!» en la Sala Canarias en Vivo de Las Palmas de Gran Canaria. \nGran noche de fiesta con 3 bandas del panorama actual de Canarias en la que se fusionan el Rock\, el Ska y el Punk. \nSka Chaos – Skaldaos – Enkassette \nEntradas en este enlace.
URL:https://calendarioeventos.com/en/evento/fiesta-fusion/
LOCATION:Canarias en Vivo\, C. Matagalpa\, 1\, Bajo\, 35010 Las Palmas de Gran Canaria\, Las Palmas
CATEGORIES:Concierto,Entretenimiento,Fiesta,Las Palmas de GC
ATTACH;FMTTYPE=image/webp:https://calendarioeventos.com/wp-content/uploads/2025/12/6a837ff7-f263-45a7-9825-448e688dabf8.avif
END:VEVENT
END:VCALENDAR