BEGIN:VCALENDAR
VERSION:2.0
PRODID:-//Calendario de Eventos Gran Canaria - ECPv6.15.17.1//NONSGML v1.0//EN
CALSCALE:GREGORIAN
METHOD:PUBLISH
X-WR-CALNAME:Calendario de Eventos Gran Canaria
X-ORIGINAL-URL:https://calendarioeventos.com/en
X-WR-CALDESC:Events for Calendario de Eventos Gran Canaria
REFRESH-INTERVAL;VALUE=DURATION:PT1H
X-Robots-Tag:noindex
X-PUBLISHED-TTL:PT1H
BEGIN:VTIMEZONE
TZID:Europe/London
BEGIN:DAYLIGHT
TZOFFSETFROM:+0000
TZOFFSETTO:+0100
TZNAME:BST
DTSTART:20240331T010000
END:DAYLIGHT
BEGIN:STANDARD
TZOFFSETFROM:+0100
TZOFFSETTO:+0000
TZNAME:GMT
DTSTART:20241027T010000
END:STANDARD
BEGIN:DAYLIGHT
TZOFFSETFROM:+0000
TZOFFSETTO:+0100
TZNAME:BST
DTSTART:20250330T010000
END:DAYLIGHT
BEGIN:STANDARD
TZOFFSETFROM:+0100
TZOFFSETTO:+0000
TZNAME:GMT
DTSTART:20251026T010000
END:STANDARD
BEGIN:DAYLIGHT
TZOFFSETFROM:+0000
TZOFFSETTO:+0100
TZNAME:BST
DTSTART:20260329T010000
END:DAYLIGHT
BEGIN:STANDARD
TZOFFSETFROM:+0100
TZOFFSETTO:+0000
TZNAME:GMT
DTSTART:20261025T010000
END:STANDARD
END:VTIMEZONE
BEGIN:VEVENT
DTSTART;TZID=Europe/London:20251207T230000
DTEND;TZID=Europe/London:20251208T040000
DTSTAMP:20260425T123706
CREATED:20251127T131436Z
LAST-MODIFIED:20251127T131436Z
UID:37852-1765148400-1765166400@calendarioeventos.com
SUMMARY:Fiesta - LIFE
DESCRIPTION:Fiesta «LIFE: El Futuro De la Música Electrónica» en el Moma Club\, Las Palmas de Gran Canaria. \nEn una noche donde los límites del tiempo se disuelven\, LIFE abre un portal entre la frecuencia humana y el pulso del universo.\nLas ondas sonoras se convierten en energía pura\, los cuerpos se sincronizan y las mentes despiertan ante una vibración cósmica que trasciende lo terrenal. \nLa música no solo se escucha… se siente\, se respira\, se vive.\nCada beat es un destello en el firmamento\, un latido que conecta el alma con el infinito.\nBajo el influjo del panorama astral\, los sonidos se funden en un viaje sensorial que redefine la realidad. \nALBERTO MONTERREY\nYERAY LETIER\nRODAS\nATIPAX \nEllos guiarán esta travesía sonora\, expandiendo la conciencia a través de la electrónica más pura. \nEntradas a 12€ con consumición en este enlace. \n  \n 
URL:https://calendarioeventos.com/en/evento/fiesta-life/
LOCATION:Moma Club\, P.º las Canteras\, 38\, 35007 Las Palmas de Gran Canaria\, Las Palmas
CATEGORIES:Entretenimiento,Fiesta,Las Palmas de GC,Música
ATTACH;FMTTYPE=image/png:https://calendarioeventos.com/wp-content/uploads/2025/11/Screenshot-2025-11-27-at-13-12-16-1-Instagram.avif
END:VEVENT
END:VCALENDAR