BEGIN:VCALENDAR
VERSION:2.0
PRODID:-//Calendario de Eventos Gran Canaria - ECPv6.15.17.1//NONSGML v1.0//EN
CALSCALE:GREGORIAN
METHOD:PUBLISH
X-WR-CALNAME:Calendario de Eventos Gran Canaria
X-ORIGINAL-URL:https://calendarioeventos.com/en
X-WR-CALDESC:Events for Calendario de Eventos Gran Canaria
REFRESH-INTERVAL;VALUE=DURATION:PT1H
X-Robots-Tag:noindex
X-PUBLISHED-TTL:PT1H
BEGIN:VTIMEZONE
TZID:Europe/London
BEGIN:DAYLIGHT
TZOFFSETFROM:+0000
TZOFFSETTO:+0100
TZNAME:BST
DTSTART:20250330T010000
END:DAYLIGHT
BEGIN:STANDARD
TZOFFSETFROM:+0100
TZOFFSETTO:+0000
TZNAME:GMT
DTSTART:20251026T010000
END:STANDARD
BEGIN:DAYLIGHT
TZOFFSETFROM:+0000
TZOFFSETTO:+0100
TZNAME:BST
DTSTART:20260329T010000
END:DAYLIGHT
BEGIN:STANDARD
TZOFFSETFROM:+0100
TZOFFSETTO:+0000
TZNAME:GMT
DTSTART:20261025T010000
END:STANDARD
BEGIN:DAYLIGHT
TZOFFSETFROM:+0000
TZOFFSETTO:+0100
TZNAME:BST
DTSTART:20270328T010000
END:DAYLIGHT
BEGIN:STANDARD
TZOFFSETFROM:+0100
TZOFFSETTO:+0000
TZNAME:GMT
DTSTART:20271031T010000
END:STANDARD
END:VTIMEZONE
BEGIN:VEVENT
DTSTART;TZID=Europe/London:20260228T230000
DTEND;TZID=Europe/London:20260301T040000
DTSTAMP:20260421T022026
CREATED:20260224T105704Z
LAST-MODIFIED:20260224T105704Z
UID:61548-1772319600-1772337600@calendarioeventos.com
SUMMARY:Fiesta - Post Cabalgata en La Biblioteca
DESCRIPTION:Fiesta – Carnaval Post Cabalgata en la discoteca La Biblioteca de Vegueta\, Las Palmas. \n🎶 Estilo Musical: Música Comercial\n⏰ Horario: Desde las 23:00 Hrs\n🎫 8€ Entrada Con 1 consumición. \n  \n 
URL:https://calendarioeventos.com/en/evento/fiesta-post-cabalgata-en-la-biblioteca/
LOCATION:Discoteca La Biblioteca Vegueta\, C. Pelota\, 21\, 35001 Las Palmas de Gran Canaria\, Las Palmas
CATEGORIES:Carnaval,Entretenimiento,Fiesta,Las Palmas de GC,Música
ATTACH;FMTTYPE=image/png:https://calendarioeventos.com/wp-content/uploads/2026/02/Screenshot-2026-02-24-at-10-55-23-Cuarta-Semana-•-Instagram.avif
END:VEVENT
END:VCALENDAR