BEGIN:VCALENDAR
VERSION:2.0
PRODID:-//Calendario de Eventos Gran Canaria - ECPv6.15.17.1//NONSGML v1.0//EN
CALSCALE:GREGORIAN
METHOD:PUBLISH
X-WR-CALNAME:Calendario de Eventos Gran Canaria
X-ORIGINAL-URL:https://calendarioeventos.com/en
X-WR-CALDESC:Events for Calendario de Eventos Gran Canaria
REFRESH-INTERVAL;VALUE=DURATION:PT1H
X-Robots-Tag:noindex
X-PUBLISHED-TTL:PT1H
BEGIN:VTIMEZONE
TZID:Europe/London
BEGIN:DAYLIGHT
TZOFFSETFROM:+0000
TZOFFSETTO:+0100
TZNAME:BST
DTSTART:20240331T010000
END:DAYLIGHT
BEGIN:STANDARD
TZOFFSETFROM:+0100
TZOFFSETTO:+0000
TZNAME:GMT
DTSTART:20241027T010000
END:STANDARD
BEGIN:DAYLIGHT
TZOFFSETFROM:+0000
TZOFFSETTO:+0100
TZNAME:BST
DTSTART:20250330T010000
END:DAYLIGHT
BEGIN:STANDARD
TZOFFSETFROM:+0100
TZOFFSETTO:+0000
TZNAME:GMT
DTSTART:20251026T010000
END:STANDARD
BEGIN:DAYLIGHT
TZOFFSETFROM:+0000
TZOFFSETTO:+0100
TZNAME:BST
DTSTART:20260329T010000
END:DAYLIGHT
BEGIN:STANDARD
TZOFFSETFROM:+0100
TZOFFSETTO:+0000
TZNAME:GMT
DTSTART:20261025T010000
END:STANDARD
END:VTIMEZONE
BEGIN:VEVENT
DTSTART;TZID=Europe/London:20251115T233000
DTEND;TZID=Europe/London:20251116T040000
DTSTAMP:20260423T095656
CREATED:20250707T230000Z
LAST-MODIFIED:20251114T203338Z
UID:6102-1763249400-1763265600@calendarioeventos.com
SUMMARY:Fiesta - Sub Disco
DESCRIPTION:Fiesta «Sub Disco» en el Moma Club\, Las Palmas de Gran Canaria. \nDespués de una breve pero necesaria parada técnica\, la energía cruda y sin filtros de SUB/DISCO está de vuelta\, más fuerte\, más profunda y más vibrante que nunca.\nNo era un adiós\, era solo un recalibrado. Hemos ajustado los bajos\, pulido los grooves y cargado la atmósfera para que la próxima edición sea una explosión sónica que te recordará por qué esta es la fiesta disco underground más auténtica de Las Palmas. \nDeja tu mainstream en la puerta\, Es hora de volver al subsuelo! \nEntradas en este enlace \nUna fiesta dedicada a los subgéneros que marcaron época y siguen inspirando: Cosmic | Space | Italo | Dark Disco …hasta llegar a lo más fresco y contemporáneo del sonido actual. \n 
URL:https://calendarioeventos.com/en/evento/fiesta-sub-disco/
LOCATION:Moma Club\, P.º las Canteras\, 38\, 35007 Las Palmas de Gran Canaria\, Las Palmas
CATEGORIES:Cultura,Entretenimiento,Fiesta,Las Palmas de GC,Música,Municipio
ATTACH;FMTTYPE=image/png:https://calendarioeventos.com/wp-content/uploads/2025/07/Screenshot-2025-11-10-at-10-44-42-Instagram.avif
END:VEVENT
END:VCALENDAR