BEGIN:VCALENDAR
VERSION:2.0
PRODID:-//Calendario de Eventos Gran Canaria - ECPv6.15.17.1//NONSGML v1.0//EN
CALSCALE:GREGORIAN
METHOD:PUBLISH
X-WR-CALNAME:Calendario de Eventos Gran Canaria
X-ORIGINAL-URL:https://calendarioeventos.com/en
X-WR-CALDESC:Events for Calendario de Eventos Gran Canaria
REFRESH-INTERVAL;VALUE=DURATION:PT1H
X-Robots-Tag:noindex
X-PUBLISHED-TTL:PT1H
BEGIN:VTIMEZONE
TZID:Europe/London
BEGIN:DAYLIGHT
TZOFFSETFROM:+0000
TZOFFSETTO:+0100
TZNAME:BST
DTSTART:20240331T010000
END:DAYLIGHT
BEGIN:STANDARD
TZOFFSETFROM:+0100
TZOFFSETTO:+0000
TZNAME:GMT
DTSTART:20241027T010000
END:STANDARD
BEGIN:DAYLIGHT
TZOFFSETFROM:+0000
TZOFFSETTO:+0100
TZNAME:BST
DTSTART:20250330T010000
END:DAYLIGHT
BEGIN:STANDARD
TZOFFSETFROM:+0100
TZOFFSETTO:+0000
TZNAME:GMT
DTSTART:20251026T010000
END:STANDARD
BEGIN:DAYLIGHT
TZOFFSETFROM:+0000
TZOFFSETTO:+0100
TZNAME:BST
DTSTART:20260329T010000
END:DAYLIGHT
BEGIN:STANDARD
TZOFFSETFROM:+0100
TZOFFSETTO:+0000
TZNAME:GMT
DTSTART:20261025T010000
END:STANDARD
END:VTIMEZONE
BEGIN:VEVENT
DTSTART;TZID=Europe/London:20251206T170000
DTEND;TZID=Europe/London:20251206T233000
DTSTAMP:20260424T034102
CREATED:20250829T230000Z
LAST-MODIFIED:20251119T135037Z
UID:8814-1765040400-1765063800@calendarioeventos.com
SUMMARY:Fiesta - ¡Tardeo a lo bestia! Ed. Navidad
DESCRIPTION:Fiesta «¡Tardeo a lo bestia! Edición Navidad» en Casa Fataga\, Las Palmas de Gran Canaria. \nEste 6 de diciembre vive una tarde-noche única en Casa Fataga (Parque Santa Catalina\, Las Palmas de Gran Canaria) con la mejor música en directo y un ambiente navideño inigualable. Disfruta de las actuaciones de Aseres\, Pedro Afonso e Idel el Mulatico\, además de nuestros DJs que pondrán a bailar a todos. 🎤🔥 Habrá regalos y sorpresas de Navidad\, creando la combinación perfecta entre fiesta\, alegría y espíritu navideño. \nEntradas para el concierto en este enlace.
URL:https://calendarioeventos.com/en/evento/fiesta-tardeo-a-lo-bestia-2/
LOCATION:Restaurante Casa Fataga Oficial\, Parque Santa Catalina\, 35007 Las Palmas de Gran Canaria\, Las Palmas
CATEGORIES:Entretenimiento,Fiesta,Las Palmas de GC,Música,Solo adultos
ATTACH;FMTTYPE=image/jpeg:https://calendarioeventos.com/wp-content/uploads/2025/08/668_f.avif
END:VEVENT
END:VCALENDAR