BEGIN:VCALENDAR
VERSION:2.0
PRODID:-//Calendario de Eventos Gran Canaria - ECPv6.15.17.1//NONSGML v1.0//EN
CALSCALE:GREGORIAN
METHOD:PUBLISH
X-WR-CALNAME:Calendario de Eventos Gran Canaria
X-ORIGINAL-URL:https://calendarioeventos.com/en
X-WR-CALDESC:Events for Calendario de Eventos Gran Canaria
REFRESH-INTERVAL;VALUE=DURATION:PT1H
X-Robots-Tag:noindex
X-PUBLISHED-TTL:PT1H
BEGIN:VTIMEZONE
TZID:Europe/London
BEGIN:DAYLIGHT
TZOFFSETFROM:+0000
TZOFFSETTO:+0100
TZNAME:BST
DTSTART:20240331T010000
END:DAYLIGHT
BEGIN:STANDARD
TZOFFSETFROM:+0100
TZOFFSETTO:+0000
TZNAME:GMT
DTSTART:20241027T010000
END:STANDARD
BEGIN:DAYLIGHT
TZOFFSETFROM:+0000
TZOFFSETTO:+0100
TZNAME:BST
DTSTART:20250330T010000
END:DAYLIGHT
BEGIN:STANDARD
TZOFFSETFROM:+0100
TZOFFSETTO:+0000
TZNAME:GMT
DTSTART:20251026T010000
END:STANDARD
BEGIN:DAYLIGHT
TZOFFSETFROM:+0000
TZOFFSETTO:+0100
TZNAME:BST
DTSTART:20260329T010000
END:DAYLIGHT
BEGIN:STANDARD
TZOFFSETFROM:+0100
TZOFFSETTO:+0000
TZNAME:GMT
DTSTART:20261025T010000
END:STANDARD
END:VTIMEZONE
BEGIN:VEVENT
DTSTART;TZID=Europe/London:20251122T180000
DTEND;TZID=Europe/London:20251122T220000
DTSTAMP:20260425T130946
CREATED:20251111T133403Z
LAST-MODIFIED:20251111T133403Z
UID:32096-1763834400-1763848800@calendarioeventos.com
SUMMARY:Fiesta - Tarratoxic
DESCRIPTION:Fiesta – Tarratoxic en Mejorarte Center\, Las Palmas de Gran Canaria. \nUn intensivo de 2 horas de Tarraxo con 2 horas de social 100% Tarraxo. \nNos acompañan desde Tenerife y Barcelona\, Wakis&Sandra👏👏👏 \nEllos son una pareja emergente que dan y darán mucho que hablar en el 2026 \nViven el estilo como nadie y nos van a aportar👇👇 \n💥 1° hora de esenciales del Tarraxo\n💥 2° hora Tarraxo New Generation \n👉✅️ Para practicar lo aprendido\, 2 horas de social 100% Tarraxo con Dj Deyz y Dj Wakis \n 
URL:https://calendarioeventos.com/en/evento/fiesta-tarratoxic/
LOCATION:MejorArte Center\, C. Viera y Clavijo\, 17\, 35002 Las Palmas de Gran Canaria\, Las Palmas
CATEGORIES:Actividades,Cultura,Danza,Entretenimiento,Fiesta,Las Palmas de GC,Música,Municipio,Taller
ATTACH;FMTTYPE=image/png:https://calendarioeventos.com/wp-content/uploads/2025/11/Screenshot-2025-11-11-at-13-31-59-Instagram.avif
END:VEVENT
END:VCALENDAR