BEGIN:VCALENDAR
VERSION:2.0
PRODID:-//Calendario de Eventos Gran Canaria - ECPv6.15.17.1//NONSGML v1.0//EN
CALSCALE:GREGORIAN
METHOD:PUBLISH
X-WR-CALNAME:Calendario de Eventos Gran Canaria
X-ORIGINAL-URL:https://calendarioeventos.com/en
X-WR-CALDESC:Events for Calendario de Eventos Gran Canaria
REFRESH-INTERVAL;VALUE=DURATION:PT1H
X-Robots-Tag:noindex
X-PUBLISHED-TTL:PT1H
BEGIN:VTIMEZONE
TZID:Europe/London
BEGIN:DAYLIGHT
TZOFFSETFROM:+0000
TZOFFSETTO:+0100
TZNAME:BST
DTSTART:20240331T010000
END:DAYLIGHT
BEGIN:STANDARD
TZOFFSETFROM:+0100
TZOFFSETTO:+0000
TZNAME:GMT
DTSTART:20241027T010000
END:STANDARD
BEGIN:DAYLIGHT
TZOFFSETFROM:+0000
TZOFFSETTO:+0100
TZNAME:BST
DTSTART:20250330T010000
END:DAYLIGHT
BEGIN:STANDARD
TZOFFSETFROM:+0100
TZOFFSETTO:+0000
TZNAME:GMT
DTSTART:20251026T010000
END:STANDARD
BEGIN:DAYLIGHT
TZOFFSETFROM:+0000
TZOFFSETTO:+0100
TZNAME:BST
DTSTART:20260329T010000
END:DAYLIGHT
BEGIN:STANDARD
TZOFFSETFROM:+0100
TZOFFSETTO:+0000
TZNAME:GMT
DTSTART:20261025T010000
END:STANDARD
END:VTIMEZONE
BEGIN:VEVENT
DTSTART;TZID=Europe/London:20251207T150000
DTEND;TZID=Europe/London:20251207T220000
DTSTAMP:20260425T123534
CREATED:20251119T115702Z
LAST-MODIFIED:20251119T115702Z
UID:34703-1765119600-1765144800@calendarioeventos.com
SUMMARY:Fiesta – “The Class”
DESCRIPTION:Fiesta – “The Class” – Terraza Bahama\, Axel Beach\, Maspalomas\, Gran Canaria \nLa Terraza Bahama en Axel Beach\, Maspalomas\, se prepara para acoger una tarde y noche inolvidable con “The Class”\, un evento musical que reúne a algunos de los DJs más destacados del panorama nacional e internacional. El domingo 7 de diciembre de 2025\, de 15:00 a 22:00 h\, el público podrá disfrutar de un line-up espectacular diseñado para los amantes de la música electrónica y House. \nEntre los artistas confirmados se encuentran César del Río\, residente del mítico Privilege Ibiza y reconocido con Disco de Platino en música House; Makoki\, un DJ que no solo mezcla música\, sino que crea auténticas experiencias sonoras; Andrés La Rocka\, promotor y residente en Amadores Beach Club; Paco García\, talento canario imprescindible en cualquier pista de baile; y Kover\, que ofrece un viaje musical cargado de nostalgia\, ritmo y energía pura. \nEl evento promete una puesta en escena llena de actitud\, mezclas potentes y momentos únicos que harán vibrar a todos los asistentes. Además\, se ofrece transporte desde la Fuente Luminosa con salida a las 15:30 h y regreso a las 23:30 h\, para mayor comodidad de los participantes. \n“The Class” es mucho más que una fiesta: es una experiencia musical completa donde la energía\, la diversión y la pasión por la música se combinan para crear recuerdos inolvidables. Perfecto para disfrutar con amigos\, parejas o simplemente dejarse llevar por el ritmo de la música en uno de los escenarios más espectaculares de Gran Canaria. \nEntradas en este enlace
URL:https://calendarioeventos.com/en/evento/fiesta-the-class/
LOCATION:Axel Beach Maspalomas\, Avda. Tirajana\, 32 (Entrance by\, C. Timple\, 35100 Maspalomas\, Las Palmas
CATEGORIES:Entretenimiento,Fiesta,Música,San Bartolomé de Tirajana
ATTACH;FMTTYPE=image/jpeg:https://calendarioeventos.com/wp-content/uploads/2025/11/terraza-.avif
END:VEVENT
END:VCALENDAR