BEGIN:VCALENDAR
VERSION:2.0
PRODID:-//Calendario de Eventos Gran Canaria - ECPv6.15.17.1//NONSGML v1.0//EN
CALSCALE:GREGORIAN
METHOD:PUBLISH
X-WR-CALNAME:Calendario de Eventos Gran Canaria
X-ORIGINAL-URL:https://calendarioeventos.com/en
X-WR-CALDESC:Events for Calendario de Eventos Gran Canaria
REFRESH-INTERVAL;VALUE=DURATION:PT1H
X-Robots-Tag:noindex
X-PUBLISHED-TTL:PT1H
BEGIN:VTIMEZONE
TZID:Europe/London
BEGIN:DAYLIGHT
TZOFFSETFROM:+0000
TZOFFSETTO:+0100
TZNAME:BST
DTSTART:20240331T010000
END:DAYLIGHT
BEGIN:STANDARD
TZOFFSETFROM:+0100
TZOFFSETTO:+0000
TZNAME:GMT
DTSTART:20241027T010000
END:STANDARD
BEGIN:DAYLIGHT
TZOFFSETFROM:+0000
TZOFFSETTO:+0100
TZNAME:BST
DTSTART:20250330T010000
END:DAYLIGHT
BEGIN:STANDARD
TZOFFSETFROM:+0100
TZOFFSETTO:+0000
TZNAME:GMT
DTSTART:20251026T010000
END:STANDARD
BEGIN:DAYLIGHT
TZOFFSETFROM:+0000
TZOFFSETTO:+0100
TZNAME:BST
DTSTART:20260329T010000
END:DAYLIGHT
BEGIN:STANDARD
TZOFFSETFROM:+0100
TZOFFSETTO:+0000
TZNAME:GMT
DTSTART:20261025T010000
END:STANDARD
END:VTIMEZONE
BEGIN:VEVENT
DTSTART;TZID=Europe/London:20251208T120000
DTEND;TZID=Europe/London:20251208T183000
DTSTAMP:20260423T180455
CREATED:20251205T111023Z
LAST-MODIFIED:20251205T111023Z
UID:40650-1765195200-1765218600@calendarioeventos.com
SUMMARY:Fiestas - Barranquillo Andrés y Soria 8 diciembre
DESCRIPTION:Programa de las Fiestas de diciembre de Barranquillo Andrés y Soria\, Mogán\, del 8 de diciembre: \n\n12:00 h: Misa y procesión por las calles de nuestros barrios.\n15:30 h: Verbena con Yoni y Aya en la Plaza Álamo y Mejías.
URL:https://calendarioeventos.com/en/evento/fiestas-barranquillo-andres-y-soria-8-diciembre/
LOCATION:Barranquillo Andrés\, 35128 Las Palmas
CATEGORIES:Entretenimiento,Eventos gratuitos,Juegos,Música,Mogán,Verbena
ATTACH;FMTTYPE=image/png:https://calendarioeventos.com/wp-content/uploads/2025/08/Screenshot-2025-12-05-at-11-01-52-Instagram.avif
END:VEVENT
END:VCALENDAR