BEGIN:VCALENDAR
VERSION:2.0
PRODID:-//Calendario de Eventos Gran Canaria - ECPv6.15.17.1//NONSGML v1.0//EN
CALSCALE:GREGORIAN
METHOD:PUBLISH
X-WR-CALNAME:Calendario de Eventos Gran Canaria
X-ORIGINAL-URL:https://calendarioeventos.com/en
X-WR-CALDESC:Events for Calendario de Eventos Gran Canaria
REFRESH-INTERVAL;VALUE=DURATION:PT1H
X-Robots-Tag:noindex
X-PUBLISHED-TTL:PT1H
BEGIN:VTIMEZONE
TZID:Europe/London
BEGIN:DAYLIGHT
TZOFFSETFROM:+0000
TZOFFSETTO:+0100
TZNAME:BST
DTSTART:20240331T010000
END:DAYLIGHT
BEGIN:STANDARD
TZOFFSETFROM:+0100
TZOFFSETTO:+0000
TZNAME:GMT
DTSTART:20241027T010000
END:STANDARD
BEGIN:DAYLIGHT
TZOFFSETFROM:+0000
TZOFFSETTO:+0100
TZNAME:BST
DTSTART:20250330T010000
END:DAYLIGHT
BEGIN:STANDARD
TZOFFSETFROM:+0100
TZOFFSETTO:+0000
TZNAME:GMT
DTSTART:20251026T010000
END:STANDARD
BEGIN:DAYLIGHT
TZOFFSETFROM:+0000
TZOFFSETTO:+0100
TZNAME:BST
DTSTART:20260329T010000
END:DAYLIGHT
BEGIN:STANDARD
TZOFFSETFROM:+0100
TZOFFSETTO:+0000
TZNAME:GMT
DTSTART:20261025T010000
END:STANDARD
END:VTIMEZONE
BEGIN:VEVENT
DTSTART;TZID=Europe/London:20251216T063000
DTEND;TZID=Europe/London:20251216T083000
DTSTAMP:20260425T192853
CREATED:20251208T200933Z
LAST-MODIFIED:20251208T200933Z
UID:41751-1765866600-1765873800@calendarioeventos.com
SUMMARY:Fiestas - La Concepción Agaete 16 diciembre
DESCRIPTION:Programa de las Fiestas en Honor a Ntra. Sra. de la Concepción en Agaete\, Gran Canaria\, del 16 de diciembre: \n\n06:30 h. Tradicional ronda de villancicos a cargo de «Los Luceros de la Madrugada» por las calles del Pueblo.\n\nDel 16 al 24 de diciembre.\n\n\n\n 
URL:https://calendarioeventos.com/en/evento/fiestas-la-concepcion-agaete-16-diciembre/
LOCATION:Agaete
CATEGORIES:Agaete,Entretenimiento,Eventos gratuitos,Fiestas Populares
ATTACH;FMTTYPE=image/jpeg:https://calendarioeventos.com/wp-content/uploads/2025/12/IMG_5987-722x1024-1.avif
END:VEVENT
END:VCALENDAR