BEGIN:VCALENDAR
VERSION:2.0
PRODID:-//Calendario de Eventos Gran Canaria - ECPv6.15.17.1//NONSGML v1.0//EN
CALSCALE:GREGORIAN
METHOD:PUBLISH
X-WR-CALNAME:Calendario de Eventos Gran Canaria
X-ORIGINAL-URL:https://calendarioeventos.com/en
X-WR-CALDESC:Events for Calendario de Eventos Gran Canaria
REFRESH-INTERVAL;VALUE=DURATION:PT1H
X-Robots-Tag:noindex
X-PUBLISHED-TTL:PT1H
BEGIN:VTIMEZONE
TZID:Europe/London
BEGIN:DAYLIGHT
TZOFFSETFROM:+0000
TZOFFSETTO:+0100
TZNAME:BST
DTSTART:20240331T010000
END:DAYLIGHT
BEGIN:STANDARD
TZOFFSETFROM:+0100
TZOFFSETTO:+0000
TZNAME:GMT
DTSTART:20241027T010000
END:STANDARD
BEGIN:DAYLIGHT
TZOFFSETFROM:+0000
TZOFFSETTO:+0100
TZNAME:BST
DTSTART:20250330T010000
END:DAYLIGHT
BEGIN:STANDARD
TZOFFSETFROM:+0100
TZOFFSETTO:+0000
TZNAME:GMT
DTSTART:20251026T010000
END:STANDARD
BEGIN:DAYLIGHT
TZOFFSETFROM:+0000
TZOFFSETTO:+0100
TZNAME:BST
DTSTART:20260329T010000
END:DAYLIGHT
BEGIN:STANDARD
TZOFFSETFROM:+0100
TZOFFSETTO:+0000
TZNAME:GMT
DTSTART:20261025T010000
END:STANDARD
END:VTIMEZONE
BEGIN:VEVENT
DTSTART;TZID=Europe/London:20251115T210000
DTEND;TZID=Europe/London:20251115T233000
DTSTAMP:20260423T100124
CREATED:20251113T090951Z
LAST-MODIFIED:20251113T090951Z
UID:32790-1763240400-1763249400@calendarioeventos.com
SUMMARY:Fiestas - San Francisco Javier
DESCRIPTION:Programa de las Fiestas de San Francisco Javier en Arucas Gran Canaria\, del 15 de noviembre: \n\n\n21:00 – GALA ELECCIÓN DE LA REINA LADYS\, GRAN LADYS Y GRAN DAMA 2025. \n\n\nA CONTINUACIÓN\, VERBENA A CARGO DE RITMO BAKANO
URL:https://calendarioeventos.com/en/evento/fiestas-san-francisco-javier/
LOCATION:San Francisco Javier\, 35411 Las Palmas
CATEGORIES:Arucas,Entretenimiento,Eventos gratuitos,Música,Verbena
ATTACH;FMTTYPE=image/jpeg:https://calendarioeventos.com/wp-content/uploads/2025/11/IMG_4220-714x1024-1.avif
END:VEVENT
END:VCALENDAR