BEGIN:VCALENDAR
VERSION:2.0
PRODID:-//Calendario de Eventos Gran Canaria - ECPv6.15.17.1//NONSGML v1.0//EN
CALSCALE:GREGORIAN
METHOD:PUBLISH
X-WR-CALNAME:Calendario de Eventos Gran Canaria
X-ORIGINAL-URL:https://calendarioeventos.com/en
X-WR-CALDESC:Events for Calendario de Eventos Gran Canaria
REFRESH-INTERVAL;VALUE=DURATION:PT1H
X-Robots-Tag:noindex
X-PUBLISHED-TTL:PT1H
BEGIN:VTIMEZONE
TZID:Europe/London
BEGIN:DAYLIGHT
TZOFFSETFROM:+0000
TZOFFSETTO:+0100
TZNAME:BST
DTSTART:20250330T010000
END:DAYLIGHT
BEGIN:STANDARD
TZOFFSETFROM:+0100
TZOFFSETTO:+0000
TZNAME:GMT
DTSTART:20251026T010000
END:STANDARD
BEGIN:DAYLIGHT
TZOFFSETFROM:+0000
TZOFFSETTO:+0100
TZNAME:BST
DTSTART:20260329T010000
END:DAYLIGHT
BEGIN:STANDARD
TZOFFSETFROM:+0100
TZOFFSETTO:+0000
TZNAME:GMT
DTSTART:20261025T010000
END:STANDARD
BEGIN:DAYLIGHT
TZOFFSETFROM:+0000
TZOFFSETTO:+0100
TZNAME:BST
DTSTART:20270328T010000
END:DAYLIGHT
BEGIN:STANDARD
TZOFFSETFROM:+0100
TZOFFSETTO:+0000
TZNAME:GMT
DTSTART:20271031T010000
END:STANDARD
END:VTIMEZONE
BEGIN:VEVENT
DTSTART;TZID=Europe/London:20260114T200000
DTEND;TZID=Europe/London:20260114T210000
DTSTAMP:20260423T153415
CREATED:20260107T133348Z
LAST-MODIFIED:20260107T133348Z
UID:50279-1768420800-1768424400@calendarioeventos.com
SUMMARY:Fiestas - San Sebastían Agüimes 14 enero
DESCRIPTION:Programa de las Fiestas de San Sebastián en Agüimes\, Gran Canaria\, del 14 de enero: \n\n20:00 – Proyección documental ‘Conociendo lo nuestro\, caminando por barrancos y veredas’.\nJosé Hidalgo Sánchez.\nMúsica\n– Texenery Hidalgo González (solista).\nTeatro Municipal de Agüimes.
URL:https://calendarioeventos.com/en/evento/fiestas-san-sebastian-aguimes-14-enero/
LOCATION:Agüimes\, Agüimes\, Las Palmas\, España
CATEGORIES:Agüimes,Documental,Entretenimiento,Eventos gratuitos,Fiestas Populares,Música
ATTACH;FMTTYPE=image/png:https://calendarioeventos.com/wp-content/uploads/2026/01/Screenshot-2026-01-07-at-13-17-56-PROGRAMA-FIESTAS-SAN-SEBASTIAN-2026-A5.inddc-AF_PROGRAMA-FIESTAS-SAN-SEBASTIAN-2026_DIGITAL-1.pdf.avif
END:VEVENT
END:VCALENDAR