BEGIN:VCALENDAR
VERSION:2.0
PRODID:-//Calendario de Eventos Gran Canaria - ECPv6.15.17.1//NONSGML v1.0//EN
CALSCALE:GREGORIAN
METHOD:PUBLISH
X-WR-CALNAME:Calendario de Eventos Gran Canaria
X-ORIGINAL-URL:https://calendarioeventos.com/en
X-WR-CALDESC:Events for Calendario de Eventos Gran Canaria
REFRESH-INTERVAL;VALUE=DURATION:PT1H
X-Robots-Tag:noindex
X-PUBLISHED-TTL:PT1H
BEGIN:VTIMEZONE
TZID:Europe/London
BEGIN:DAYLIGHT
TZOFFSETFROM:+0000
TZOFFSETTO:+0100
TZNAME:BST
DTSTART:20240331T010000
END:DAYLIGHT
BEGIN:STANDARD
TZOFFSETFROM:+0100
TZOFFSETTO:+0000
TZNAME:GMT
DTSTART:20241027T010000
END:STANDARD
BEGIN:DAYLIGHT
TZOFFSETFROM:+0000
TZOFFSETTO:+0100
TZNAME:BST
DTSTART:20250330T010000
END:DAYLIGHT
BEGIN:STANDARD
TZOFFSETFROM:+0100
TZOFFSETTO:+0000
TZNAME:GMT
DTSTART:20251026T010000
END:STANDARD
BEGIN:DAYLIGHT
TZOFFSETFROM:+0000
TZOFFSETTO:+0100
TZNAME:BST
DTSTART:20260329T010000
END:DAYLIGHT
BEGIN:STANDARD
TZOFFSETFROM:+0100
TZOFFSETTO:+0000
TZNAME:GMT
DTSTART:20261025T010000
END:STANDARD
END:VTIMEZONE
BEGIN:VEVENT
DTSTART;TZID=Europe/London:20251213T070000
DTEND;TZID=Europe/London:20251214T010000
DTSTAMP:20260424T113725
CREATED:20251125T173944Z
LAST-MODIFIED:20251125T173944Z
UID:37259-1765609200-1765674000@calendarioeventos.com
SUMMARY:Fiestas - Santa Lucía y los Labradores 13 diciembre
DESCRIPTION:Programa de las Fiestas de Santa Lucía y los Labradores en Santa Lucía de Tirajana\, Gran Canaria\, del 13 de diciembre: \nFIESTA PRINCIPAL DÍA DE SANTA LUCÍA \n\n07:00 h. Diana Floreada por las calles y barrios\, amenizada por la Banda Aborigen.\n09:00 h. Local anexo al Polideportivo Municipal\, Feria- Exposición de ganado.\n11:00 h. En el Salón de plenos de las Casas Consistoriales\, recibimiento de la Lucía Sueca y la Lucía Canaria\, por la Corporación Municipal\, autoridades y Comisión de Fiestas.\n19:00 h. Mariachi Peleón en La Plaza de la Iglesia\n22:00 h. Polideportivo:\nVerbena con Son del Caney\, Jaleo Music\, Leyenda Joven y DJ Antonio Boada
URL:https://calendarioeventos.com/en/evento/fiestas-santa-lucia-y-los-labradores-13-diciembre/
LOCATION:Santa Lucía de Tirajana\, 35280 Las Palmas
CATEGORIES:Entretenimiento,Eventos gratuitos,Feria,Música,Santa Lucía de Tirajana,Verbena
ATTACH;FMTTYPE=image/jpeg:https://calendarioeventos.com/wp-content/uploads/2025/11/IMG_5056-724x1024-1.avif
END:VEVENT
END:VCALENDAR