BEGIN:VCALENDAR
VERSION:2.0
PRODID:-//Calendario de Eventos Gran Canaria - ECPv6.15.17.1//NONSGML v1.0//EN
CALSCALE:GREGORIAN
METHOD:PUBLISH
X-WR-CALNAME:Calendario de Eventos Gran Canaria
X-ORIGINAL-URL:https://calendarioeventos.com/en
X-WR-CALDESC:Events for Calendario de Eventos Gran Canaria
REFRESH-INTERVAL;VALUE=DURATION:PT1H
X-Robots-Tag:noindex
X-PUBLISHED-TTL:PT1H
BEGIN:VTIMEZONE
TZID:Europe/London
BEGIN:DAYLIGHT
TZOFFSETFROM:+0000
TZOFFSETTO:+0100
TZNAME:BST
DTSTART:20240331T010000
END:DAYLIGHT
BEGIN:STANDARD
TZOFFSETFROM:+0100
TZOFFSETTO:+0000
TZNAME:GMT
DTSTART:20241027T010000
END:STANDARD
BEGIN:DAYLIGHT
TZOFFSETFROM:+0000
TZOFFSETTO:+0100
TZNAME:BST
DTSTART:20250330T010000
END:DAYLIGHT
BEGIN:STANDARD
TZOFFSETFROM:+0100
TZOFFSETTO:+0000
TZNAME:GMT
DTSTART:20251026T010000
END:STANDARD
BEGIN:DAYLIGHT
TZOFFSETFROM:+0000
TZOFFSETTO:+0100
TZNAME:BST
DTSTART:20260329T010000
END:DAYLIGHT
BEGIN:STANDARD
TZOFFSETFROM:+0100
TZOFFSETTO:+0000
TZNAME:GMT
DTSTART:20261025T010000
END:STANDARD
END:VTIMEZONE
BEGIN:VEVENT
DTSTART;TZID=Europe/London:20251231T110000
DTEND;TZID=Europe/London:20251231T150000
DTSTAMP:20260425T163053
CREATED:20251220T113746Z
LAST-MODIFIED:20251225T110352Z
UID:45774-1767178800-1767193200@calendarioeventos.com
SUMMARY:Fin de Año 2025 en San Mateo
DESCRIPTION:Programa de eventos de Fin de Año 2025 en Vega de San Mateo\, Gran Canaria. \n\n11.00h – Reparto gratuito de cotillones para las primeras 300 personas que lleguen en el Monumento del Agricultor. Cada cotillón tendrá un número para el sorteo de 250 euros en compras en los comercios de La Principal Vega San Mateo por lo que sólo se entregará un cotillón por persona.\nSubida del Cotillón con Banda de Música Archipiélago y los Papagüevos de Guanarteme DESDE EL MONUMENTÓ AL AGRICULTOR.\n12.00h – Campanadas de Mediodía y verbena con Furia Joven y Dj Ponova – DELANTE DE LA IGLESIA.
URL:https://calendarioeventos.com/en/evento/fin-de-ano-2025-en-san-mateo/
LOCATION:San Mateo
CATEGORIES:Entretenimiento,Eventos gratuitos,Música,San Mateo,Verbena
ATTACH;FMTTYPE=image/png:https://calendarioeventos.com/wp-content/uploads/2025/12/Screenshot-2025-12-25-at-11-02-54-Instagram.avif
END:VEVENT
END:VCALENDAR