BEGIN:VCALENDAR
VERSION:2.0
PRODID:-//Calendario de Eventos Gran Canaria - ECPv6.15.17.1//NONSGML v1.0//EN
CALSCALE:GREGORIAN
METHOD:PUBLISH
X-WR-CALNAME:Calendario de Eventos Gran Canaria
X-ORIGINAL-URL:https://calendarioeventos.com/en
X-WR-CALDESC:Events for Calendario de Eventos Gran Canaria
REFRESH-INTERVAL;VALUE=DURATION:PT1H
X-Robots-Tag:noindex
X-PUBLISHED-TTL:PT1H
BEGIN:VTIMEZONE
TZID:Europe/London
BEGIN:DAYLIGHT
TZOFFSETFROM:+0000
TZOFFSETTO:+0100
TZNAME:BST
DTSTART:20250330T010000
END:DAYLIGHT
BEGIN:STANDARD
TZOFFSETFROM:+0100
TZOFFSETTO:+0000
TZNAME:GMT
DTSTART:20251026T010000
END:STANDARD
BEGIN:DAYLIGHT
TZOFFSETFROM:+0000
TZOFFSETTO:+0100
TZNAME:BST
DTSTART:20260329T010000
END:DAYLIGHT
BEGIN:STANDARD
TZOFFSETFROM:+0100
TZOFFSETTO:+0000
TZNAME:GMT
DTSTART:20261025T010000
END:STANDARD
BEGIN:DAYLIGHT
TZOFFSETFROM:+0000
TZOFFSETTO:+0100
TZNAME:BST
DTSTART:20270328T010000
END:DAYLIGHT
BEGIN:STANDARD
TZOFFSETFROM:+0100
TZOFFSETTO:+0000
TZNAME:GMT
DTSTART:20271031T010000
END:STANDARD
END:VTIMEZONE
BEGIN:VEVENT
DTSTART;TZID=Europe/London:20260314T235000
DTEND;TZID=Europe/London:20260315T040000
DTSTAMP:20260423T111438
CREATED:20260223T133830Z
LAST-MODIFIED:20260223T133915Z
UID:61181-1773532200-1773547200@calendarioeventos.com
SUMMARY:Fiesta — «AURORA presents SYSTEMA»
DESCRIPTION:Fiesta — AURORA presents SYSTEMA Curated by Luishock en El Baladero\, Las Palmas de Gran Canaria.\nAurora regresa con una nueva sesión extendida centrada en la narrativa a largo recorrido y la inmersión total en la pista. \nSystema\, dúo formado por Gala & Nogue tomarán el control durante más de cuatro horas\, trazando un recorrido continuo entre techno\, dub\, minimal\, acid y electro\, sin interrupciones y sin prisa. \nAbre la noche Luishock\, host y curador de Aurora. \nHasta que el amanecer empiece a abrirse paso\, el espacio volverá a latir de forma compartida\, en una experiencia que se percibe más que se explica\, donde el respeto sostiene cada movimiento. \nEntradas en este enlace.
URL:https://calendarioeventos.com/en/evento/fista-aurora-presents-systema/
LOCATION:Asociación El Baladero\, Calle Prof. Lozano\, 17\, Sótano\, 35008 Las Palmas de Gran Canaria\, Las Palmas
CATEGORIES:Clubbing,Electrónica,Entretenimiento,Fiesta,Las Palmas de GC,Solo adultos
ATTACH;FMTTYPE=image/jpeg:https://calendarioeventos.com/wp-content/uploads/2026/02/aurora_02_ticketing-06HvZL.avif
END:VEVENT
END:VCALENDAR