BEGIN:VCALENDAR
VERSION:2.0
PRODID:-//Calendario de Eventos Gran Canaria - ECPv6.15.17.1//NONSGML v1.0//EN
CALSCALE:GREGORIAN
METHOD:PUBLISH
X-WR-CALNAME:Calendario de Eventos Gran Canaria
X-ORIGINAL-URL:https://calendarioeventos.com/en
X-WR-CALDESC:Events for Calendario de Eventos Gran Canaria
REFRESH-INTERVAL;VALUE=DURATION:PT1H
X-Robots-Tag:noindex
X-PUBLISHED-TTL:PT1H
BEGIN:VTIMEZONE
TZID:Europe/London
BEGIN:DAYLIGHT
TZOFFSETFROM:+0000
TZOFFSETTO:+0100
TZNAME:BST
DTSTART:20240331T010000
END:DAYLIGHT
BEGIN:STANDARD
TZOFFSETFROM:+0100
TZOFFSETTO:+0000
TZNAME:GMT
DTSTART:20241027T010000
END:STANDARD
BEGIN:DAYLIGHT
TZOFFSETFROM:+0000
TZOFFSETTO:+0100
TZNAME:BST
DTSTART:20250330T010000
END:DAYLIGHT
BEGIN:STANDARD
TZOFFSETFROM:+0100
TZOFFSETTO:+0000
TZNAME:GMT
DTSTART:20251026T010000
END:STANDARD
BEGIN:DAYLIGHT
TZOFFSETFROM:+0000
TZOFFSETTO:+0100
TZNAME:BST
DTSTART:20260329T010000
END:DAYLIGHT
BEGIN:STANDARD
TZOFFSETFROM:+0100
TZOFFSETTO:+0000
TZNAME:GMT
DTSTART:20261025T010000
END:STANDARD
END:VTIMEZONE
BEGIN:VEVENT
DTSTART;TZID=Europe/London:20251221T110000
DTEND;TZID=Europe/London:20251221T123000
DTSTAMP:20260421T060511
CREATED:20251219T125648Z
LAST-MODIFIED:20251219T125648Z
UID:45557-1766314800-1766320200@calendarioeventos.com
SUMMARY:Gala de Navidad "Bailando entre cuentos"
DESCRIPTION:Gala de Navidad «Bailando entre cuentos» en el Polideportivo de Vega de San Mateo\, Gran Canaria. \nEl Polideportivo Municipal de San Mateo acogerá este sábado 21 de diciembre\, a las 11:00 horas\, la Gala de Navidad “Bailando entre cuentos”\, un espectáculo lleno de magia\, danza e ilusión. \nLa cita contará con actuaciones de Fit Kid\, baile moderno y muchas sorpresas más\, en una propuesta pensada para disfrutar en familia y dejarse llevar por el espíritu navideño a través del movimiento y la fantasía.
URL:https://calendarioeventos.com/en/evento/gala-de-navidad-bailando-entre-cuentos/
LOCATION:Polideportivo Vega De San Mateo\, C. la Palma\, 7A\, 35329 Vega de San Mateo\, Las Palmas
CATEGORIES:Cultura,Danza,Eventos gratuitos,Infantil,Música,San Mateo
ATTACH;FMTTYPE=image/png:https://calendarioeventos.com/wp-content/uploads/2025/12/Screenshot-2025-12-19-at-12-54-50-Instagram.avif
END:VEVENT
END:VCALENDAR