BEGIN:VCALENDAR
VERSION:2.0
PRODID:-//Calendario de Eventos Gran Canaria - ECPv6.15.17.1//NONSGML v1.0//EN
CALSCALE:GREGORIAN
METHOD:PUBLISH
X-WR-CALNAME:Calendario de Eventos Gran Canaria
X-ORIGINAL-URL:https://calendarioeventos.com/en
X-WR-CALDESC:Events for Calendario de Eventos Gran Canaria
REFRESH-INTERVAL;VALUE=DURATION:PT1H
X-Robots-Tag:noindex
X-PUBLISHED-TTL:PT1H
BEGIN:VTIMEZONE
TZID:Europe/London
BEGIN:DAYLIGHT
TZOFFSETFROM:+0000
TZOFFSETTO:+0100
TZNAME:BST
DTSTART:20240331T010000
END:DAYLIGHT
BEGIN:STANDARD
TZOFFSETFROM:+0100
TZOFFSETTO:+0000
TZNAME:GMT
DTSTART:20241027T010000
END:STANDARD
BEGIN:DAYLIGHT
TZOFFSETFROM:+0000
TZOFFSETTO:+0100
TZNAME:BST
DTSTART:20250330T010000
END:DAYLIGHT
BEGIN:STANDARD
TZOFFSETFROM:+0100
TZOFFSETTO:+0000
TZNAME:GMT
DTSTART:20251026T010000
END:STANDARD
BEGIN:DAYLIGHT
TZOFFSETFROM:+0000
TZOFFSETTO:+0100
TZNAME:BST
DTSTART:20260329T010000
END:DAYLIGHT
BEGIN:STANDARD
TZOFFSETFROM:+0100
TZOFFSETTO:+0000
TZNAME:GMT
DTSTART:20261025T010000
END:STANDARD
END:VTIMEZONE
BEGIN:VEVENT
DTSTART;TZID=Europe/London:20251206T170000
DTEND;TZID=Europe/London:20251207T003000
DTSTAMP:20260424T002549
CREATED:20251124T133852Z
LAST-MODIFIED:20251124T133852Z
UID:36636-1765040400-1765067400@calendarioeventos.com
SUMMARY:Gala Solidaria "Los Diver\, camino al éxito"
DESCRIPTION:Gala Solidaria «Los Diver\, camino al éxito» en el Auditorio Parque San Juan\, Telde\, Gran Canaria. \nLa solidaridad y el talento infantil se darán la mano el próximo sábado 6 de diciembre\, cuando el Auditorio José Vélez\, en el Parque Urbano de San Juan\, acoja la gala solidaria “Los Diver\, camino al éxito”\, un evento patrocinado por Pastelerías Ojeda\, con la colaboración de diversas empresas del municipio. \nLa propuesta\, dirigida por Lorena Vélez\, reunirá a una amplia nómina de artistas locales y grupos musicales que actuarán entre las 17.00 y las 00.30 horas\, en una jornada festiva pensada para familias y amantes de la música en directo. \nUn cartel amplio y variado: El escenario contará con actuaciones de Jose Valido\, DJ Coctelera\, Whily Flores\, el grupo La Mekánica (by Tamarindos)\, Ritmo Bakano\, DJ Danisel\, Acuarela y el solista Joni. \nAdemás\, el espectáculo estará acompañado de animación infantil y un ambiente plenamente familiar. \nEl precio de la entrada será de 10 euros\, e incluirá una consumición. Durante la gala\, el público podrá participar en múltiples sorteos proporcionados por las empresas colaboradoras\, con el objetivo de recaudar fondos para apoyar iniciativas culturales y sociales vinculadas al proyecto “Los Diver”.
URL:https://calendarioeventos.com/en/evento/gala-solidaria-los-diver-camino-al-exito/
LOCATION:Auditorio Parque San Juan\, Calle Dr. Gumersindo Velázquez Santana\, 6\, 35200 Telde\, Las Palmas
CATEGORIES:Actividades,Infantil,Música,Telde
ATTACH;FMTTYPE=image/jpeg:https://calendarioeventos.com/wp-content/uploads/2025/11/9088_imagen-de-whatsapp-2025-11-22-a-las-090859_a2ad6d52.avif
END:VEVENT
END:VCALENDAR