BEGIN:VCALENDAR
VERSION:2.0
PRODID:-//Calendario de Eventos Gran Canaria - ECPv6.15.17.1//NONSGML v1.0//EN
CALSCALE:GREGORIAN
METHOD:PUBLISH
X-WR-CALNAME:Calendario de Eventos Gran Canaria
X-ORIGINAL-URL:https://calendarioeventos.com/en
X-WR-CALDESC:Events for Calendario de Eventos Gran Canaria
REFRESH-INTERVAL;VALUE=DURATION:PT1H
X-Robots-Tag:noindex
X-PUBLISHED-TTL:PT1H
BEGIN:VTIMEZONE
TZID:Europe/London
BEGIN:DAYLIGHT
TZOFFSETFROM:+0000
TZOFFSETTO:+0100
TZNAME:BST
DTSTART:20240331T010000
END:DAYLIGHT
BEGIN:STANDARD
TZOFFSETFROM:+0100
TZOFFSETTO:+0000
TZNAME:GMT
DTSTART:20241027T010000
END:STANDARD
BEGIN:DAYLIGHT
TZOFFSETFROM:+0000
TZOFFSETTO:+0100
TZNAME:BST
DTSTART:20250330T010000
END:DAYLIGHT
BEGIN:STANDARD
TZOFFSETFROM:+0100
TZOFFSETTO:+0000
TZNAME:GMT
DTSTART:20251026T010000
END:STANDARD
BEGIN:DAYLIGHT
TZOFFSETFROM:+0000
TZOFFSETTO:+0100
TZNAME:BST
DTSTART:20260329T010000
END:DAYLIGHT
BEGIN:STANDARD
TZOFFSETFROM:+0100
TZOFFSETTO:+0000
TZNAME:GMT
DTSTART:20261025T010000
END:STANDARD
END:VTIMEZONE
BEGIN:VEVENT
DTSTART;TZID=Europe/London:20251217T170000
DTEND;TZID=Europe/London:20251217T203000
DTSTAMP:20260425T183642
CREATED:20251209T132547Z
LAST-MODIFIED:20251209T132547Z
UID:42021-1765990800-1766003400@calendarioeventos.com
SUMMARY:Gáldar Ciudad Navidad 17 diciembre
DESCRIPTION:Programa de eventos navideños «Gáldar Ciudad Navidad» en Gáldar\, Gran Canaria\, del 17 de diciembre: \n\n\n17.00 h. Teatro Consistorial de Gáldar. Audiciones de la Escuela Municipal de Música Pedro Espinosa de Gáldar. Aula de Guitarra. \n\n\n18.30 h. Teatro Consistorial de Gáldar. Audiciones de la Escuela Municipal de Música Pedro Espinosa de Gáldar. Aula de Canto. \n\n\n19.00 h. Centro Cultural Guaires. Gala de Navidad del Ballet Municipal de Gáldar. \n\n\nEste año\, la ciudad se transforma en un lugar donde la ilusión se respira en cada calle\, invitando a vecinos y visitantes a disfrutar de unas fiestas inolvidables. \nDesde el viernes 28 de noviembre hasta el 5 de enero\, te espera una agenda pensada para todas las edades\, ¡para que cada familia viva la Navidad a su manera!
URL:https://calendarioeventos.com/en/evento/galdar-ciudad-navidad-17-diciembre/
LOCATION:Gáldar\, 35460 Las Palmas
CATEGORIES:Cultura,Danza,Eventos gratuitos,Gáldar,Música
ATTACH;FMTTYPE=image/png:https://calendarioeventos.com/wp-content/uploads/2025/11/Screenshot-2025-11-26-at-09-02-13-Instagram.avif
END:VEVENT
END:VCALENDAR